BEGIN:VCALENDAR
VERSION:2.0
PRODID:-//North Community Church - ECPv6.15.20//NONSGML v1.0//EN
CALSCALE:GREGORIAN
METHOD:PUBLISH
X-ORIGINAL-URL:https://northcommunitychurch.org
X-WR-CALDESC:Events for North Community Church
REFRESH-INTERVAL;VALUE=DURATION:PT1H
X-Robots-Tag:noindex
X-PUBLISHED-TTL:PT1H
BEGIN:VTIMEZONE
TZID:America/New_York
BEGIN:DAYLIGHT
TZOFFSETFROM:-0500
TZOFFSETTO:-0400
TZNAME:EDT
DTSTART:20240310T070000
END:DAYLIGHT
BEGIN:STANDARD
TZOFFSETFROM:-0400
TZOFFSETTO:-0500
TZNAME:EST
DTSTART:20241103T060000
END:STANDARD
BEGIN:DAYLIGHT
TZOFFSETFROM:-0500
TZOFFSETTO:-0400
TZNAME:EDT
DTSTART:20250309T070000
END:DAYLIGHT
BEGIN:STANDARD
TZOFFSETFROM:-0400
TZOFFSETTO:-0500
TZNAME:EST
DTSTART:20251102T060000
END:STANDARD
BEGIN:DAYLIGHT
TZOFFSETFROM:-0500
TZOFFSETTO:-0400
TZNAME:EDT
DTSTART:20260308T070000
END:DAYLIGHT
BEGIN:STANDARD
TZOFFSETFROM:-0400
TZOFFSETTO:-0500
TZNAME:EST
DTSTART:20261101T060000
END:STANDARD
END:VTIMEZONE
BEGIN:VEVENT
DTSTART;TZID=America/New_York:20250903T190000
DTEND;TZID=America/New_York:20250903T210000
DTSTAMP:20260419T191028
CREATED:20250913T221549Z
LAST-MODIFIED:20250913T222439Z
UID:10000837-1756926000-1756933200@northcommunitychurch.org
SUMMARY:Choir Practice – North Community Church
DESCRIPTION:Join us every Wednesday at 7:00 PM\n Sanctuary\, North Community Church\, 72 Old Main Street\, Marshfield Hills \nLift your voice and join us! Choir rehearsal takes place each Wednesday evening in the sanctuary. All are welcome—no prior choral experience needed\, just a love of music\, singing\, and community. The choir also gathers for a short warm-up on Sunday mornings before worship. \nFor questions\, contact:\nDiana Barnes Fabrizio\, Music Director\nDiana@northcommunitychurch.org
URL:https://northcommunitychurch.org/event/choir-practice-north-community-church/2025-09-03/
LOCATION:North Community Church\, 72 Old Main Street\, Marshfield\, Massachusetts\, 02051\, United States
CATEGORIES:Music
ATTACH;FMTTYPE=image/jpeg:https://northcommunitychurch.org/wp-content/uploads/2025/09/NCC-Choir-Practic.jpg
END:VEVENT
BEGIN:VEVENT
DTSTART;TZID=America/New_York:20250907T100000
DTEND;TZID=America/New_York:20250907T110000
DTSTAMP:20260419T191028
CREATED:20250904T180346Z
LAST-MODIFIED:20250904T180348Z
UID:10000780-1757239200-1757242800@northcommunitychurch.org
SUMMARY:Sunday Worship
DESCRIPTION:Sunday Worship begins at 10:00am.\nThis Sunday\, bring a bring a symbol of your summer that we can display in the Sanctuary!\nEnjoy a free light breakfast during fellowship at Friendship Hall immediately following the service.
URL:https://northcommunitychurch.org/event/sunday-worship-2025-8-2/
LOCATION:North Community Church\, 72 Old Main Street\, Marshfield\, Massachusetts\, 02051\, United States
CATEGORIES:Worship
ATTACH;FMTTYPE=image/jpeg:https://northcommunitychurch.org/wp-content/uploads/2022/06/NCC-Marshfield-2.jpg
END:VEVENT
BEGIN:VEVENT
DTSTART;TZID=America/New_York:20250910T190000
DTEND;TZID=America/New_York:20250910T210000
DTSTAMP:20260419T191028
CREATED:20250913T221549Z
LAST-MODIFIED:20250913T222439Z
UID:10000838-1757530800-1757538000@northcommunitychurch.org
SUMMARY:Choir Practice – North Community Church
DESCRIPTION:Join us every Wednesday at 7:00 PM\n Sanctuary\, North Community Church\, 72 Old Main Street\, Marshfield Hills \nLift your voice and join us! Choir rehearsal takes place each Wednesday evening in the sanctuary. All are welcome—no prior choral experience needed\, just a love of music\, singing\, and community. The choir also gathers for a short warm-up on Sunday mornings before worship. \nFor questions\, contact:\nDiana Barnes Fabrizio\, Music Director\nDiana@northcommunitychurch.org
URL:https://northcommunitychurch.org/event/choir-practice-north-community-church/2025-09-10/
LOCATION:North Community Church\, 72 Old Main Street\, Marshfield\, Massachusetts\, 02051\, United States
CATEGORIES:Music
ATTACH;FMTTYPE=image/jpeg:https://northcommunitychurch.org/wp-content/uploads/2025/09/NCC-Choir-Practic.jpg
END:VEVENT
BEGIN:VEVENT
DTSTART;TZID=America/New_York:20250914T100000
DTEND;TZID=America/New_York:20250914T110000
DTSTAMP:20260419T191028
CREATED:20250904T180525Z
LAST-MODIFIED:20250904T180526Z
UID:10000781-1757844000-1757847600@northcommunitychurch.org
SUMMARY:Sunday Worship
DESCRIPTION:Sunday Worship begins at 10:00am.\nThis week Robynne Lambert will offer a mission moment about school supplies and other needs.\nEnjoy a free light breakfast during fellowship at Friendship Hall immediately following the service.
URL:https://northcommunitychurch.org/event/sunday-worship-2025-8-3/
LOCATION:North Community Church\, 72 Old Main Street\, Marshfield\, Massachusetts\, 02051\, United States
CATEGORIES:Worship
ATTACH;FMTTYPE=image/jpeg:https://northcommunitychurch.org/wp-content/uploads/2022/06/NCC-Marshfield-2.jpg
END:VEVENT
BEGIN:VEVENT
DTSTART;TZID=America/New_York:20250917T190000
DTEND;TZID=America/New_York:20250917T210000
DTSTAMP:20260419T191028
CREATED:20250913T221549Z
LAST-MODIFIED:20250913T222439Z
UID:10000839-1758135600-1758142800@northcommunitychurch.org
SUMMARY:Choir Practice – North Community Church
DESCRIPTION:Join us every Wednesday at 7:00 PM\n Sanctuary\, North Community Church\, 72 Old Main Street\, Marshfield Hills \nLift your voice and join us! Choir rehearsal takes place each Wednesday evening in the sanctuary. All are welcome—no prior choral experience needed\, just a love of music\, singing\, and community. The choir also gathers for a short warm-up on Sunday mornings before worship. \nFor questions\, contact:\nDiana Barnes Fabrizio\, Music Director\nDiana@northcommunitychurch.org
URL:https://northcommunitychurch.org/event/choir-practice-north-community-church/2025-09-17/
LOCATION:North Community Church\, 72 Old Main Street\, Marshfield\, Massachusetts\, 02051\, United States
CATEGORIES:Music
ATTACH;FMTTYPE=image/jpeg:https://northcommunitychurch.org/wp-content/uploads/2025/09/NCC-Choir-Practic.jpg
END:VEVENT
BEGIN:VEVENT
DTSTART;TZID=America/New_York:20250921T100000
DTEND;TZID=America/New_York:20250921T110000
DTSTAMP:20260419T191028
CREATED:20250904T180222Z
LAST-MODIFIED:20250904T180222Z
UID:10000782-1758448800-1758452400@northcommunitychurch.org
SUMMARY:Sunday Worship
DESCRIPTION:Sunday Worship begins at 10:00am.\nEnjoy a free light breakfast during fellowship at Friendship Hall immediately following the service.
URL:https://northcommunitychurch.org/event/sunday-worship-2025-8/2025-09-21/
LOCATION:North Community Church\, 72 Old Main Street\, Marshfield\, Massachusetts\, 02051\, United States
CATEGORIES:Worship
ATTACH;FMTTYPE=image/jpeg:https://northcommunitychurch.org/wp-content/uploads/2022/06/NCC-Marshfield-2.jpg
END:VEVENT
BEGIN:VEVENT
DTSTART;TZID=America/New_York:20250924T190000
DTEND;TZID=America/New_York:20250924T210000
DTSTAMP:20260419T191028
CREATED:20250913T221549Z
LAST-MODIFIED:20250913T222439Z
UID:10000840-1758740400-1758747600@northcommunitychurch.org
SUMMARY:Choir Practice – North Community Church
DESCRIPTION:Join us every Wednesday at 7:00 PM\n Sanctuary\, North Community Church\, 72 Old Main Street\, Marshfield Hills \nLift your voice and join us! Choir rehearsal takes place each Wednesday evening in the sanctuary. All are welcome—no prior choral experience needed\, just a love of music\, singing\, and community. The choir also gathers for a short warm-up on Sunday mornings before worship. \nFor questions\, contact:\nDiana Barnes Fabrizio\, Music Director\nDiana@northcommunitychurch.org
URL:https://northcommunitychurch.org/event/choir-practice-north-community-church/2025-09-24/
LOCATION:North Community Church\, 72 Old Main Street\, Marshfield\, Massachusetts\, 02051\, United States
CATEGORIES:Music
ATTACH;FMTTYPE=image/jpeg:https://northcommunitychurch.org/wp-content/uploads/2025/09/NCC-Choir-Practic.jpg
END:VEVENT
BEGIN:VEVENT
DTSTART;TZID=America/New_York:20250928T100000
DTEND;TZID=America/New_York:20250928T110000
DTSTAMP:20260419T191028
CREATED:20250904T180222Z
LAST-MODIFIED:20250904T180222Z
UID:10000783-1759053600-1759057200@northcommunitychurch.org
SUMMARY:Sunday Worship
DESCRIPTION:Sunday Worship begins at 10:00am.\nEnjoy a free light breakfast during fellowship at Friendship Hall immediately following the service.
URL:https://northcommunitychurch.org/event/sunday-worship-2025-8/2025-09-28/
LOCATION:North Community Church\, 72 Old Main Street\, Marshfield\, Massachusetts\, 02051\, United States
CATEGORIES:Worship
ATTACH;FMTTYPE=image/jpeg:https://northcommunitychurch.org/wp-content/uploads/2022/06/NCC-Marshfield-2.jpg
END:VEVENT
END:VCALENDAR