BEGIN:VCALENDAR
VERSION:2.0
PRODID:-//North Community Church - ECPv6.15.20//NONSGML v1.0//EN
CALSCALE:GREGORIAN
METHOD:PUBLISH
X-WR-CALNAME:North Community Church
X-ORIGINAL-URL:https://northcommunitychurch.org
X-WR-CALDESC:Events for North Community Church
REFRESH-INTERVAL;VALUE=DURATION:PT1H
X-Robots-Tag:noindex
X-PUBLISHED-TTL:PT1H
BEGIN:VTIMEZONE
TZID:America/New_York
BEGIN:DAYLIGHT
TZOFFSETFROM:-0500
TZOFFSETTO:-0400
TZNAME:EDT
DTSTART:20230312T070000
END:DAYLIGHT
BEGIN:STANDARD
TZOFFSETFROM:-0400
TZOFFSETTO:-0500
TZNAME:EST
DTSTART:20231105T060000
END:STANDARD
BEGIN:DAYLIGHT
TZOFFSETFROM:-0500
TZOFFSETTO:-0400
TZNAME:EDT
DTSTART:20240310T070000
END:DAYLIGHT
BEGIN:STANDARD
TZOFFSETFROM:-0400
TZOFFSETTO:-0500
TZNAME:EST
DTSTART:20241103T060000
END:STANDARD
BEGIN:DAYLIGHT
TZOFFSETFROM:-0500
TZOFFSETTO:-0400
TZNAME:EDT
DTSTART:20250309T070000
END:DAYLIGHT
BEGIN:STANDARD
TZOFFSETFROM:-0400
TZOFFSETTO:-0500
TZNAME:EST
DTSTART:20251102T060000
END:STANDARD
END:VTIMEZONE
BEGIN:VEVENT
DTSTART;TZID=America/New_York:20240429T110000
DTEND;TZID=America/New_York:20240429T120000
DTSTAMP:20260421T010003
CREATED:20230814T135027Z
LAST-MODIFIED:20230814T135219Z
UID:10000293-1714388400-1714392000@northcommunitychurch.org
SUMMARY:Bible Study
DESCRIPTION:
URL:https://northcommunitychurch.org/event/bible-study/2024-04-29/
LOCATION:Friendship Hall on Old Main\, 83 Old Main Street\, Marshfield Hills\, MA\, 02051\, United States
CATEGORIES:Faith Formation
ATTACH;FMTTYPE=image/jpeg:https://northcommunitychurch.org/wp-content/uploads/2023/08/Bible-Study.jpg
END:VEVENT
BEGIN:VEVENT
DTSTART;TZID=America/New_York:20240429T100000
DTEND;TZID=America/New_York:20240429T110000
DTSTAMP:20260421T010003
CREATED:20230814T134011Z
LAST-MODIFIED:20230814T134301Z
UID:10000166-1714384800-1714388400@northcommunitychurch.org
SUMMARY:AA Meeting
DESCRIPTION:
URL:https://northcommunitychurch.org/event/aa-meeting-mon-thurs/2024-04-29/
LOCATION:Friendship Hall on Old Main\, 83 Old Main Street\, Marshfield Hills\, MA\, 02051\, United States
CATEGORIES:Community
ATTACH;FMTTYPE=image/png:https://northcommunitychurch.org/wp-content/uploads/2023/08/AAMeeting.png
END:VEVENT
BEGIN:VEVENT
DTSTART;TZID=America/New_York:20240428T173000
DTEND;TZID=America/New_York:20240428T183000
DTSTAMP:20260421T010003
CREATED:20230814T133820Z
LAST-MODIFIED:20230814T134418Z
UID:10000070-1714325400-1714329000@northcommunitychurch.org
SUMMARY:AA Meeting
DESCRIPTION:
URL:https://northcommunitychurch.org/event/aa-meeting-sundays/2024-04-28/
LOCATION:Friendship Hall on Old Main\, 83 Old Main Street\, Marshfield Hills\, MA\, 02051\, United States
CATEGORIES:Community
ATTACH;FMTTYPE=image/png:https://northcommunitychurch.org/wp-content/uploads/2023/08/AAMeeting.png
END:VEVENT
BEGIN:VEVENT
DTSTART;TZID=America/New_York:20240428T100000
DTEND;TZID=America/New_York:20240428T110000
DTSTAMP:20260421T010003
CREATED:20240209T181508Z
LAST-MODIFIED:20240418T124755Z
UID:10000410-1714298400-1714302000@northcommunitychurch.org
SUMMARY:Sunday Worship | Peggy Files\, Guest Minister
DESCRIPTION:NCC welcomes Peggy Files as guest minister for today’s Worship.
URL:https://northcommunitychurch.org/event/sunday-worship-8-15/
LOCATION:North Community Church\, 72 Old Main Street\, Marshfield\, Massachusetts\, 02051\, United States
CATEGORIES:Worship
ATTACH;FMTTYPE=image/jpeg:https://northcommunitychurch.org/wp-content/uploads/2022/06/North-Community-Church-Marshfield-1.jpg
END:VEVENT
BEGIN:VEVENT
DTSTART;TZID=America/New_York:20240426T190000
DTEND;TZID=America/New_York:20240426T200000
DTSTAMP:20260421T010003
CREATED:20230814T134156Z
LAST-MODIFIED:20230814T135118Z
UID:10000239-1714158000-1714161600@northcommunitychurch.org
SUMMARY:AA Meeting
DESCRIPTION:
URL:https://northcommunitychurch.org/event/aa-meeting-fridays/2024-04-26/
LOCATION:Friendship Hall on Old Main\, 83 Old Main Street\, Marshfield Hills\, MA\, 02051\, United States
CATEGORIES:AA Meeting,Community
ATTACH;FMTTYPE=image/png:https://northcommunitychurch.org/wp-content/uploads/2023/08/AAMeeting.png
END:VEVENT
BEGIN:VEVENT
DTSTART;TZID=America/New_York:20240426T080000
DTEND;TZID=America/New_York:20240426T130000
DTSTAMP:20260421T010003
CREATED:20240404T191126Z
LAST-MODIFIED:20240404T191546Z
UID:10000549-1714118400-1714136400@northcommunitychurch.org
SUMMARY:'We Are Marshfield' Project at NCC
DESCRIPTION:The “We Are Marshfield Project” will be held on Friday\, April 26th from 8am-1pm. \nThis project is held each year at many organizations throughout the town.  A group of Marshfield High School seniors will volunteer at NCC for the day.  Outside yard work will be done if the weather is good or inside cleaning\, organizing and painting if the weather is rainy.  John Camp will guide the students throughout the day. \nIf anyone would like to volunteer for all or part of the day\, please contact Jane Maier at 617 967-6930 or pmaier30@aol.com. \nA pizza lunch will be served.  Please bring a rake\, hedge clippers\, gloves\, and/or leaf blower if you have them.  In the past\, it has always been a great day to meet some of Marshfield’s HS seniors and work along side them as they give back to the Marshfield Community.
URL:https://northcommunitychurch.org/event/we-are-marshfield-project-at-ncc/
LOCATION:North Community Church\, 72 Old Main Street\, Marshfield\, Massachusetts\, 02051\, United States
CATEGORIES:Community,NCC
ATTACH;FMTTYPE=image/jpeg:https://northcommunitychurch.org/wp-content/uploads/2024/04/we-are-marshfield.jpg
END:VEVENT
BEGIN:VEVENT
DTSTART;TZID=America/New_York:20240425T100000
DTEND;TZID=America/New_York:20240425T110000
DTSTAMP:20260421T010003
CREATED:20230814T134011Z
LAST-MODIFIED:20230814T134301Z
UID:10000165-1714039200-1714042800@northcommunitychurch.org
SUMMARY:AA Meeting
DESCRIPTION:
URL:https://northcommunitychurch.org/event/aa-meeting-mon-thurs/2024-04-25/
LOCATION:Friendship Hall on Old Main\, 83 Old Main Street\, Marshfield Hills\, MA\, 02051\, United States
CATEGORIES:Community
ATTACH;FMTTYPE=image/png:https://northcommunitychurch.org/wp-content/uploads/2023/08/AAMeeting.png
END:VEVENT
BEGIN:VEVENT
DTSTART;TZID=America/New_York:20240424T190000
DTEND;TZID=America/New_York:20240424T203000
DTSTAMP:20260421T010003
CREATED:20230912T133051Z
LAST-MODIFIED:20230912T133051Z
UID:10000343-1713985200-1713990600@northcommunitychurch.org
SUMMARY:Choir Rehearsal
DESCRIPTION:Wednesday evenings at 7pm (Starting on September 13\, 2023) in the sanctuary. \nAll are invited! Please consider joining us this season or just come to check it out if you are at all interested in singing and want to give back in this wonderful way to your church community.
URL:https://northcommunitychurch.org/event/choir-rehearsal/2024-04-24/
LOCATION:Sanctuary\, 72 Old Main Street\, Marshfield Hills\, MA\, 02051\, United States
CATEGORIES:Music
ATTACH;FMTTYPE=image/jpeg:https://northcommunitychurch.org/wp-content/uploads/2023/09/unsplash-image-AQIB4qsI8wI.jpg
ORGANIZER;CN="Diana Barnes":MAILTO:diana@northcommunitychurch.org
END:VEVENT
BEGIN:VEVENT
DTSTART;VALUE=DATE:20240424
DTEND;VALUE=DATE:20240501
DTSTAMP:20260421T010003
CREATED:20240209T181148Z
LAST-MODIFIED:20240209T181759Z
UID:10000503-1713916800-1714521599@northcommunitychurch.org
SUMMARY:Rev. Andrew at NGLI
DESCRIPTION:
URL:https://northcommunitychurch.org/event/rev-andrew-at-ngli/
CATEGORIES:NCC
END:VEVENT
BEGIN:VEVENT
DTSTART;TZID=America/New_York:20240422T110000
DTEND;TZID=America/New_York:20240422T120000
DTSTAMP:20260421T010003
CREATED:20230814T135027Z
LAST-MODIFIED:20230814T135219Z
UID:10000292-1713783600-1713787200@northcommunitychurch.org
SUMMARY:Bible Study
DESCRIPTION:
URL:https://northcommunitychurch.org/event/bible-study/2024-04-22/
LOCATION:Friendship Hall on Old Main\, 83 Old Main Street\, Marshfield Hills\, MA\, 02051\, United States
CATEGORIES:Faith Formation
ATTACH;FMTTYPE=image/jpeg:https://northcommunitychurch.org/wp-content/uploads/2023/08/Bible-Study.jpg
END:VEVENT
BEGIN:VEVENT
DTSTART;TZID=America/New_York:20240422T100000
DTEND;TZID=America/New_York:20240422T110000
DTSTAMP:20260421T010003
CREATED:20230814T134011Z
LAST-MODIFIED:20230814T134301Z
UID:10000164-1713780000-1713783600@northcommunitychurch.org
SUMMARY:AA Meeting
DESCRIPTION:
URL:https://northcommunitychurch.org/event/aa-meeting-mon-thurs/2024-04-22/
LOCATION:Friendship Hall on Old Main\, 83 Old Main Street\, Marshfield Hills\, MA\, 02051\, United States
CATEGORIES:Community
ATTACH;FMTTYPE=image/png:https://northcommunitychurch.org/wp-content/uploads/2023/08/AAMeeting.png
END:VEVENT
BEGIN:VEVENT
DTSTART;TZID=America/New_York:20240421T173000
DTEND;TZID=America/New_York:20240421T183000
DTSTAMP:20260421T010003
CREATED:20230814T133820Z
LAST-MODIFIED:20230814T134418Z
UID:10000069-1713720600-1713724200@northcommunitychurch.org
SUMMARY:AA Meeting
DESCRIPTION:
URL:https://northcommunitychurch.org/event/aa-meeting-sundays/2024-04-21/
LOCATION:Friendship Hall on Old Main\, 83 Old Main Street\, Marshfield Hills\, MA\, 02051\, United States
CATEGORIES:Community
ATTACH;FMTTYPE=image/png:https://northcommunitychurch.org/wp-content/uploads/2023/08/AAMeeting.png
END:VEVENT
BEGIN:VEVENT
DTSTART;TZID=America/New_York:20240421T150000
DTEND;TZID=America/New_York:20240421T170000
DTSTAMP:20260421T010003
CREATED:20240331T223857Z
LAST-MODIFIED:20240402T205402Z
UID:10000548-1713711600-1713718800@northcommunitychurch.org
SUMMARY:The Service of Installation for the Rev. Andrew Ponder Williams as Settled Pastor
DESCRIPTION:Please join us for the installation of Reverend Andrew Ponder Williams as pastor of North Community Church! \nThe North Community Church congregation and friends are invited to join in the Installation celebration of Reverend Andrew Ponder Williams at North Community Church\, United Church of Christ in Marshfield Hills on April 21st at 3pm.  A pastor’s Installation is a church service in which a new pastor is charged with duties and welcomed into the church family\, marking the beginning with a sense of hope and possibility.
URL:https://northcommunitychurch.org/event/installation-service-for-settled-pastor/
LOCATION:North Community Church\, 72 Old Main Street\, Marshfield\, Massachusetts\, 02051\, United States
CATEGORIES:Community,Fellowship,NCC,Worship
ATTACH;FMTTYPE=image/jpeg:https://northcommunitychurch.org/wp-content/uploads/2024/03/pastoral-installation-2.jpg
END:VEVENT
BEGIN:VEVENT
DTSTART;TZID=America/New_York:20240421T100000
DTEND;TZID=America/New_York:20240421T110000
DTSTAMP:20260421T010003
CREATED:20230912T170000Z
LAST-MODIFIED:20240210T163906Z
UID:10000409-1713693600-1713697200@northcommunitychurch.org
SUMMARY:Sunday Worship
DESCRIPTION:
URL:https://northcommunitychurch.org/event/sunday-worship-8/2024-04-21/
LOCATION:North Community Church\, 72 Old Main Street\, Marshfield\, Massachusetts\, 02051\, United States
CATEGORIES:Worship
ATTACH;FMTTYPE=image/jpeg:https://northcommunitychurch.org/wp-content/uploads/2022/06/North-Community-Church-Marshfield-1.jpg
END:VEVENT
BEGIN:VEVENT
DTSTART;TZID=America/New_York:20240419T190000
DTEND;TZID=America/New_York:20240419T200000
DTSTAMP:20260421T010003
CREATED:20230814T134156Z
LAST-MODIFIED:20230814T135118Z
UID:10000238-1713553200-1713556800@northcommunitychurch.org
SUMMARY:AA Meeting
DESCRIPTION:
URL:https://northcommunitychurch.org/event/aa-meeting-fridays/2024-04-19/
LOCATION:Friendship Hall on Old Main\, 83 Old Main Street\, Marshfield Hills\, MA\, 02051\, United States
CATEGORIES:AA Meeting,Community
ATTACH;FMTTYPE=image/png:https://northcommunitychurch.org/wp-content/uploads/2023/08/AAMeeting.png
END:VEVENT
BEGIN:VEVENT
DTSTART;TZID=America/New_York:20240418T100000
DTEND;TZID=America/New_York:20240418T110000
DTSTAMP:20260421T010003
CREATED:20230814T134011Z
LAST-MODIFIED:20230814T134301Z
UID:10000163-1713434400-1713438000@northcommunitychurch.org
SUMMARY:AA Meeting
DESCRIPTION:
URL:https://northcommunitychurch.org/event/aa-meeting-mon-thurs/2024-04-18/
LOCATION:Friendship Hall on Old Main\, 83 Old Main Street\, Marshfield Hills\, MA\, 02051\, United States
CATEGORIES:Community
ATTACH;FMTTYPE=image/png:https://northcommunitychurch.org/wp-content/uploads/2023/08/AAMeeting.png
END:VEVENT
BEGIN:VEVENT
DTSTART;TZID=America/New_York:20240417T190000
DTEND;TZID=America/New_York:20240417T203000
DTSTAMP:20260421T010003
CREATED:20230912T133051Z
LAST-MODIFIED:20230912T133051Z
UID:10000342-1713380400-1713385800@northcommunitychurch.org
SUMMARY:Choir Rehearsal
DESCRIPTION:Wednesday evenings at 7pm (Starting on September 13\, 2023) in the sanctuary. \nAll are invited! Please consider joining us this season or just come to check it out if you are at all interested in singing and want to give back in this wonderful way to your church community.
URL:https://northcommunitychurch.org/event/choir-rehearsal/2024-04-17/
LOCATION:Sanctuary\, 72 Old Main Street\, Marshfield Hills\, MA\, 02051\, United States
CATEGORIES:Music
ATTACH;FMTTYPE=image/jpeg:https://northcommunitychurch.org/wp-content/uploads/2023/09/unsplash-image-AQIB4qsI8wI.jpg
ORGANIZER;CN="Diana Barnes":MAILTO:diana@northcommunitychurch.org
END:VEVENT
BEGIN:VEVENT
DTSTART;TZID=America/New_York:20240417T143000
DTEND;TZID=America/New_York:20240417T153000
DTSTAMP:20260421T010003
CREATED:20240209T172143Z
LAST-MODIFIED:20240209T193338Z
UID:10000490-1713364200-1713367800@northcommunitychurch.org
SUMMARY:"Read with the Rev." Book Group
DESCRIPTION:Join Rev. Andrew for the “Read with the Rev.” Book Group meeting every 3rd Wednesday of the month at the Friendship Room at 83 Old Main Street (across from the Church). For more information email rev@northcommunitychurch.org.
URL:https://northcommunitychurch.org/event/read-with-the-rev-book-group/2024-04-17/
LOCATION:Friendship Hall on Old Main\, 83 Old Main Street\, Marshfield Hills\, MA\, 02051\, United States
CATEGORIES:Community,NCC,Read with the Rev
ATTACH;FMTTYPE=image/jpeg:https://northcommunitychurch.org/wp-content/uploads/2024/02/Read-with-Rev-e1707499266988.jpg
END:VEVENT
BEGIN:VEVENT
DTSTART;TZID=America/New_York:20240415T110000
DTEND;TZID=America/New_York:20240415T120000
DTSTAMP:20260421T010003
CREATED:20230814T135027Z
LAST-MODIFIED:20230814T135219Z
UID:10000291-1713178800-1713182400@northcommunitychurch.org
SUMMARY:Bible Study
DESCRIPTION:
URL:https://northcommunitychurch.org/event/bible-study/2024-04-15/
LOCATION:Friendship Hall on Old Main\, 83 Old Main Street\, Marshfield Hills\, MA\, 02051\, United States
CATEGORIES:Faith Formation
ATTACH;FMTTYPE=image/jpeg:https://northcommunitychurch.org/wp-content/uploads/2023/08/Bible-Study.jpg
END:VEVENT
BEGIN:VEVENT
DTSTART;TZID=America/New_York:20240415T100000
DTEND;TZID=America/New_York:20240415T110000
DTSTAMP:20260421T010003
CREATED:20230814T134011Z
LAST-MODIFIED:20230814T134301Z
UID:10000162-1713175200-1713178800@northcommunitychurch.org
SUMMARY:AA Meeting
DESCRIPTION:
URL:https://northcommunitychurch.org/event/aa-meeting-mon-thurs/2024-04-15/
LOCATION:Friendship Hall on Old Main\, 83 Old Main Street\, Marshfield Hills\, MA\, 02051\, United States
CATEGORIES:Community
ATTACH;FMTTYPE=image/png:https://northcommunitychurch.org/wp-content/uploads/2023/08/AAMeeting.png
END:VEVENT
BEGIN:VEVENT
DTSTART;TZID=America/New_York:20240414T173000
DTEND;TZID=America/New_York:20240414T183000
DTSTAMP:20260421T010003
CREATED:20230814T133820Z
LAST-MODIFIED:20230814T134418Z
UID:10000068-1713115800-1713119400@northcommunitychurch.org
SUMMARY:AA Meeting
DESCRIPTION:
URL:https://northcommunitychurch.org/event/aa-meeting-sundays/2024-04-14/
LOCATION:Friendship Hall on Old Main\, 83 Old Main Street\, Marshfield Hills\, MA\, 02051\, United States
CATEGORIES:Community
ATTACH;FMTTYPE=image/png:https://northcommunitychurch.org/wp-content/uploads/2023/08/AAMeeting.png
END:VEVENT
BEGIN:VEVENT
DTSTART;TZID=America/New_York:20240414T100000
DTEND;TZID=America/New_York:20240414T110000
DTSTAMP:20260421T010003
CREATED:20230912T170000Z
LAST-MODIFIED:20240210T163906Z
UID:10000408-1713088800-1713092400@northcommunitychurch.org
SUMMARY:Sunday Worship
DESCRIPTION:
URL:https://northcommunitychurch.org/event/sunday-worship-8/2024-04-14/
LOCATION:North Community Church\, 72 Old Main Street\, Marshfield\, Massachusetts\, 02051\, United States
CATEGORIES:Worship
ATTACH;FMTTYPE=image/jpeg:https://northcommunitychurch.org/wp-content/uploads/2022/06/North-Community-Church-Marshfield-1.jpg
END:VEVENT
BEGIN:VEVENT
DTSTART;TZID=America/New_York:20240412T190000
DTEND;TZID=America/New_York:20240412T200000
DTSTAMP:20260421T010003
CREATED:20230814T134156Z
LAST-MODIFIED:20230814T135118Z
UID:10000237-1712948400-1712952000@northcommunitychurch.org
SUMMARY:AA Meeting
DESCRIPTION:
URL:https://northcommunitychurch.org/event/aa-meeting-fridays/2024-04-12/
LOCATION:Friendship Hall on Old Main\, 83 Old Main Street\, Marshfield Hills\, MA\, 02051\, United States
CATEGORIES:AA Meeting,Community
ATTACH;FMTTYPE=image/png:https://northcommunitychurch.org/wp-content/uploads/2023/08/AAMeeting.png
END:VEVENT
BEGIN:VEVENT
DTSTART;TZID=America/New_York:20240411T100000
DTEND;TZID=America/New_York:20240411T110000
DTSTAMP:20260421T010003
CREATED:20230814T134011Z
LAST-MODIFIED:20230814T134301Z
UID:10000161-1712829600-1712833200@northcommunitychurch.org
SUMMARY:AA Meeting
DESCRIPTION:
URL:https://northcommunitychurch.org/event/aa-meeting-mon-thurs/2024-04-11/
LOCATION:Friendship Hall on Old Main\, 83 Old Main Street\, Marshfield Hills\, MA\, 02051\, United States
CATEGORIES:Community
ATTACH;FMTTYPE=image/png:https://northcommunitychurch.org/wp-content/uploads/2023/08/AAMeeting.png
END:VEVENT
BEGIN:VEVENT
DTSTART;TZID=America/New_York:20240410T190000
DTEND;TZID=America/New_York:20240410T203000
DTSTAMP:20260421T010003
CREATED:20230912T133051Z
LAST-MODIFIED:20230912T133051Z
UID:10000341-1712775600-1712781000@northcommunitychurch.org
SUMMARY:Choir Rehearsal
DESCRIPTION:Wednesday evenings at 7pm (Starting on September 13\, 2023) in the sanctuary. \nAll are invited! Please consider joining us this season or just come to check it out if you are at all interested in singing and want to give back in this wonderful way to your church community.
URL:https://northcommunitychurch.org/event/choir-rehearsal/2024-04-10/
LOCATION:Sanctuary\, 72 Old Main Street\, Marshfield Hills\, MA\, 02051\, United States
CATEGORIES:Music
ATTACH;FMTTYPE=image/jpeg:https://northcommunitychurch.org/wp-content/uploads/2023/09/unsplash-image-AQIB4qsI8wI.jpg
ORGANIZER;CN="Diana Barnes":MAILTO:diana@northcommunitychurch.org
END:VEVENT
BEGIN:VEVENT
DTSTART;TZID=America/New_York:20240409T173000
DTEND;TZID=America/New_York:20240409T190000
DTSTAMP:20260421T010003
CREATED:20240209T170532Z
LAST-MODIFIED:20240209T193304Z
UID:10000475-1712683800-1712689200@northcommunitychurch.org
SUMMARY:Monthly Meetup
DESCRIPTION:Monthly Meetups feature time for fellowship and connection with NCC friends and Rev. Andrew.  All you have to do is show up! Every second Tuesday of the month from 5:30pm to 7:00pm at Panera Bread in Pembroke.
URL:https://northcommunitychurch.org/event/monthly-meetup/2024-04-09/
LOCATION:Panera Bread\, 152 Church Street\, Pembroke\, MA\, 02359\, United States
CATEGORIES:Fellowship,Monthly Meetup
ATTACH;FMTTYPE=image/jpeg:https://northcommunitychurch.org/wp-content/uploads/2024/02/Monthly-Meetups-e1707498810829.jpg
END:VEVENT
BEGIN:VEVENT
DTSTART;TZID=America/New_York:20240408T110000
DTEND;TZID=America/New_York:20240408T120000
DTSTAMP:20260421T010003
CREATED:20230814T135027Z
LAST-MODIFIED:20230814T135219Z
UID:10000290-1712574000-1712577600@northcommunitychurch.org
SUMMARY:Bible Study
DESCRIPTION:
URL:https://northcommunitychurch.org/event/bible-study/2024-04-08/
LOCATION:Friendship Hall on Old Main\, 83 Old Main Street\, Marshfield Hills\, MA\, 02051\, United States
CATEGORIES:Faith Formation
ATTACH;FMTTYPE=image/jpeg:https://northcommunitychurch.org/wp-content/uploads/2023/08/Bible-Study.jpg
END:VEVENT
BEGIN:VEVENT
DTSTART;TZID=America/New_York:20240408T100000
DTEND;TZID=America/New_York:20240408T110000
DTSTAMP:20260421T010003
CREATED:20230814T134011Z
LAST-MODIFIED:20230814T134301Z
UID:10000160-1712570400-1712574000@northcommunitychurch.org
SUMMARY:AA Meeting
DESCRIPTION:
URL:https://northcommunitychurch.org/event/aa-meeting-mon-thurs/2024-04-08/
LOCATION:Friendship Hall on Old Main\, 83 Old Main Street\, Marshfield Hills\, MA\, 02051\, United States
CATEGORIES:Community
ATTACH;FMTTYPE=image/png:https://northcommunitychurch.org/wp-content/uploads/2023/08/AAMeeting.png
END:VEVENT
BEGIN:VEVENT
DTSTART;TZID=America/New_York:20240407T173000
DTEND;TZID=America/New_York:20240407T183000
DTSTAMP:20260421T010003
CREATED:20230814T133820Z
LAST-MODIFIED:20230814T134418Z
UID:10000067-1712511000-1712514600@northcommunitychurch.org
SUMMARY:AA Meeting
DESCRIPTION:
URL:https://northcommunitychurch.org/event/aa-meeting-sundays/2024-04-07/
LOCATION:Friendship Hall on Old Main\, 83 Old Main Street\, Marshfield Hills\, MA\, 02051\, United States
CATEGORIES:Community
ATTACH;FMTTYPE=image/png:https://northcommunitychurch.org/wp-content/uploads/2023/08/AAMeeting.png
END:VEVENT
BEGIN:VEVENT
DTSTART;TZID=America/New_York:20240407T110000
DTEND;TZID=America/New_York:20240407T120000
DTSTAMP:20260421T010003
CREATED:20240331T213342Z
LAST-MODIFIED:20240331T225714Z
UID:10000547-1712487600-1712491200@northcommunitychurch.org
SUMMARY:New Member Info Session
DESCRIPTION:We will be offering a New Member Information Session on Sunday\, April 7 after worship in the Friendship Room at the NCC Parish House directly across the street from the Church.  This is an opportunity to find out about our Church Mission\, many ministries and how membership enables full participation in the decision-making of the church.  Membership is never a requirement at our church.  It is an affirming way we formally acknowledge and celebrate our covenant to care for one another and to serve God together.  Child care will be provided!
URL:https://northcommunitychurch.org/event/new-member-info-session/
LOCATION:Friendship Hall on Old Main\, 83 Old Main Street\, Marshfield Hills\, MA\, 02051\, United States
CATEGORIES:Community,Worship
ATTACH;FMTTYPE=image/jpeg:https://northcommunitychurch.org/wp-content/uploads/2024/03/new-member-session-2.jpg
END:VEVENT
END:VCALENDAR