BEGIN:VCALENDAR
VERSION:2.0
PRODID:-//North Community Church - ECPv6.15.20//NONSGML v1.0//EN
CALSCALE:GREGORIAN
METHOD:PUBLISH
X-ORIGINAL-URL:https://northcommunitychurch.org
X-WR-CALDESC:Events for North Community Church
REFRESH-INTERVAL;VALUE=DURATION:PT1H
X-Robots-Tag:noindex
X-PUBLISHED-TTL:PT1H
BEGIN:VTIMEZONE
TZID:America/New_York
BEGIN:DAYLIGHT
TZOFFSETFROM:-0500
TZOFFSETTO:-0400
TZNAME:EDT
DTSTART:20230312T070000
END:DAYLIGHT
BEGIN:STANDARD
TZOFFSETFROM:-0400
TZOFFSETTO:-0500
TZNAME:EST
DTSTART:20231105T060000
END:STANDARD
BEGIN:DAYLIGHT
TZOFFSETFROM:-0500
TZOFFSETTO:-0400
TZNAME:EDT
DTSTART:20240310T070000
END:DAYLIGHT
BEGIN:STANDARD
TZOFFSETFROM:-0400
TZOFFSETTO:-0500
TZNAME:EST
DTSTART:20241103T060000
END:STANDARD
BEGIN:DAYLIGHT
TZOFFSETFROM:-0500
TZOFFSETTO:-0400
TZNAME:EDT
DTSTART:20250309T070000
END:DAYLIGHT
BEGIN:STANDARD
TZOFFSETFROM:-0400
TZOFFSETTO:-0500
TZNAME:EST
DTSTART:20251102T060000
END:STANDARD
END:VTIMEZONE
BEGIN:VEVENT
DTSTART;TZID=America/New_York:20241201T100000
DTEND;TZID=America/New_York:20241201T110000
DTSTAMP:20260419T172747
CREATED:20241125T222958Z
LAST-MODIFIED:20241125T223104Z
UID:10000536-1733047200-1733050800@northcommunitychurch.org
SUMMARY:First Sunday of Advent "Hope"
DESCRIPTION:
URL:https://northcommunitychurch.org/event/sunday-worship-8-23/
LOCATION:North Community Church\, 72 Old Main Street\, Marshfield\, Massachusetts\, 02051\, United States
CATEGORIES:Worship
ATTACH;FMTTYPE=image/jpeg:https://northcommunitychurch.org/wp-content/uploads/2024/11/1st-sunday-of-advent-hope.jpg
END:VEVENT
BEGIN:VEVENT
DTSTART;TZID=America/New_York:20241127T140000
DTEND;TZID=America/New_York:20241127T150000
DTSTAMP:20260419T172747
CREATED:20240907T133342Z
LAST-MODIFIED:20240907T133342Z
UID:10000629-1732716000-1732719600@northcommunitychurch.org
SUMMARY:Midweek Prayer Service
DESCRIPTION:Join us in the Memorial Garden for a midweek prayer service every Wednesday at 2:00pm starting on Wednesday September 18th\, through Wednesday October 9th.
URL:https://northcommunitychurch.org/event/midweek-prayer-service/
LOCATION:North Community Church\, 72 Old Main Street\, Marshfield\, Massachusetts\, 02051\, United States
CATEGORIES:Community,Faith Formation,NCC,Worship
ATTACH;FMTTYPE=image/jpeg:https://northcommunitychurch.org/wp-content/uploads/2024/09/Midweek-Prayer-Service-Fall-2024.jpg
END:VEVENT
BEGIN:VEVENT
DTSTART;TZID=America/New_York:20241124T100000
DTEND;TZID=America/New_York:20241124T110000
DTSTAMP:20260419T172747
CREATED:20240210T182353Z
LAST-MODIFIED:20240901T174149Z
UID:10000535-1732442400-1732446000@northcommunitychurch.org
SUMMARY:Thanksgiving Sunday Worship
DESCRIPTION:Thanksgiving Sunday and Transgender Remembrance Day.
URL:https://northcommunitychurch.org/event/sunday-worship-8-24/
LOCATION:North Community Church\, 72 Old Main Street\, Marshfield\, Massachusetts\, 02051\, United States
CATEGORIES:Worship
ATTACH;FMTTYPE=image/jpeg:https://northcommunitychurch.org/wp-content/uploads/2024/09/Thanksgiving-Sunday-Worship.jpg
END:VEVENT
BEGIN:VEVENT
DTSTART;TZID=America/New_York:20241117T100000
DTEND;TZID=America/New_York:20241117T110000
DTSTAMP:20260419T172747
CREATED:20240210T181308Z
LAST-MODIFIED:20240210T182000Z
UID:10000534-1731837600-1731841200@northcommunitychurch.org
SUMMARY:Sunday Worship
DESCRIPTION:NCC welcomes a Guest Minister today in Rev. Andrew’s absence.
URL:https://northcommunitychurch.org/event/sunday-worship-19/
LOCATION:North Community Church\, 72 Old Main Street\, Marshfield\, Massachusetts\, 02051\, United States
CATEGORIES:Worship
ATTACH;FMTTYPE=image/jpeg:https://northcommunitychurch.org/wp-content/uploads/2024/09/Sunday-Worship.jpg
END:VEVENT
BEGIN:VEVENT
DTSTART;TZID=America/New_York:20241110T100000
DTEND;TZID=America/New_York:20241110T110000
DTSTAMP:20260419T172747
CREATED:20240210T181244Z
LAST-MODIFIED:20240210T182012Z
UID:10000533-1731232800-1731236400@northcommunitychurch.org
SUMMARY:Sunday Worship
DESCRIPTION:NCC welcomes a Guest Minister today in Rev. Andrew’s absence.
URL:https://northcommunitychurch.org/event/sunday-worship-18/
LOCATION:North Community Church\, 72 Old Main Street\, Marshfield\, Massachusetts\, 02051\, United States
CATEGORIES:Worship
ATTACH;FMTTYPE=image/jpeg:https://northcommunitychurch.org/wp-content/uploads/2024/09/Sunday-Worship.jpg
END:VEVENT
BEGIN:VEVENT
DTSTART;TZID=America/New_York:20241103T100000
DTEND;TZID=America/New_York:20241103T110000
DTSTAMP:20260419T172747
CREATED:20240210T181238Z
LAST-MODIFIED:20240901T173335Z
UID:10000532-1730628000-1730631600@northcommunitychurch.org
SUMMARY:Sunday Worship: Communion and All Saints Sunday
DESCRIPTION:
URL:https://northcommunitychurch.org/event/sunday-worship-17/
LOCATION:North Community Church\, 72 Old Main Street\, Marshfield\, Massachusetts\, 02051\, United States
CATEGORIES:Worship
ATTACH;FMTTYPE=image/jpeg:https://northcommunitychurch.org/wp-content/uploads/2024/02/communion-sunday-and-all-saints.jpg
END:VEVENT
BEGIN:VEVENT
DTSTART;TZID=America/New_York:20241027T100000
DTEND;TZID=America/New_York:20241027T110000
DTSTAMP:20260419T172747
CREATED:20240210T181500Z
LAST-MODIFIED:20240901T172506Z
UID:10000531-1730023200-1730026800@northcommunitychurch.org
SUMMARY:Costume Sunday Worship
DESCRIPTION:All ages worship. Wear your Halloween costume and enjoy Trunk or Treat Festivities!
URL:https://northcommunitychurch.org/event/sunday-worship-20/
LOCATION:North Community Church\, 72 Old Main Street\, Marshfield\, Massachusetts\, 02051\, United States
CATEGORIES:Worship
ATTACH;FMTTYPE=image/jpeg:https://northcommunitychurch.org/wp-content/uploads/2024/02/costume-sunday.jpg
END:VEVENT
BEGIN:VEVENT
DTSTART;TZID=America/New_York:20241020T100000
DTEND;TZID=America/New_York:20241020T110000
DTSTAMP:20260419T172747
CREATED:20240901T154603Z
LAST-MODIFIED:20240901T172758Z
UID:10000530-1729418400-1729422000@northcommunitychurch.org
SUMMARY:Sunday Worship
DESCRIPTION:
URL:https://northcommunitychurch.org/event/sunday-worship-26/
LOCATION:North Community Church\, 72 Old Main Street\, Marshfield\, Massachusetts\, 02051\, United States
CATEGORIES:Worship
ATTACH;FMTTYPE=image/jpeg:https://northcommunitychurch.org/wp-content/uploads/2024/09/Laity-Sunday.jpg
END:VEVENT
BEGIN:VEVENT
DTSTART;TZID=America/New_York:20241013T110000
DTEND;TZID=America/New_York:20241013T120000
DTSTAMP:20260419T172747
CREATED:20240901T163622Z
LAST-MODIFIED:20240901T163622Z
UID:10000566-1728817200-1728820800@northcommunitychurch.org
SUMMARY:After Worship: Invitational Christianity Launch Party
DESCRIPTION:
URL:https://northcommunitychurch.org/event/after-worship-invitational-christianity-launch-party/
LOCATION:North Community Church\, 72 Old Main Street\, Marshfield\, Massachusetts\, 02051\, United States
CATEGORIES:Faith Formation,NCC,Worship
ATTACH;FMTTYPE=image/jpeg:https://northcommunitychurch.org/wp-content/uploads/2024/09/IC-Launch-Party.jpg
END:VEVENT
BEGIN:VEVENT
DTSTART;TZID=America/New_York:20241013T100000
DTEND;TZID=America/New_York:20241013T110000
DTSTAMP:20260419T172747
CREATED:20240901T154600Z
LAST-MODIFIED:20240901T160112Z
UID:10000529-1728813600-1728817200@northcommunitychurch.org
SUMMARY:Sunday Worship: "Delightfully Declaring"
DESCRIPTION:The fifth and final in a series of five Invitational Christianity sermons by Rev. Andrew.  This week’s theme: “Delightfully Declaring”.
URL:https://northcommunitychurch.org/event/sunday-worship-25/
LOCATION:North Community Church\, 72 Old Main Street\, Marshfield\, Massachusetts\, 02051\, United States
CATEGORIES:Worship
ATTACH;FMTTYPE=image/jpeg:https://northcommunitychurch.org/wp-content/uploads/2024/09/Delightfully-Declaring.jpg
END:VEVENT
BEGIN:VEVENT
DTSTART;TZID=America/New_York:20241006T100000
DTEND;TZID=America/New_York:20241006T110000
DTSTAMP:20260419T172747
CREATED:20240901T154556Z
LAST-MODIFIED:20240901T155628Z
UID:10000528-1728208800-1728212400@northcommunitychurch.org
SUMMARY:Sunday Worship: "Authentically Affirming"
DESCRIPTION:The fourth in a series of five Invitational Christianity sermons by Rev. Andrew.  This week’s theme: “Authentically Affirming”.
URL:https://northcommunitychurch.org/event/sunday-worship-24/
LOCATION:North Community Church\, 72 Old Main Street\, Marshfield\, Massachusetts\, 02051\, United States
CATEGORIES:Worship
ATTACH;FMTTYPE=image/jpeg:https://northcommunitychurch.org/wp-content/uploads/2024/08/7.jpg
END:VEVENT
BEGIN:VEVENT
DTSTART;TZID=America/New_York:20241002T140000
DTEND;TZID=America/New_York:20241002T150000
DTSTAMP:20260419T172747
CREATED:20240907T133558Z
LAST-MODIFIED:20240907T133558Z
UID:10000570-1727877600-1727881200@northcommunitychurch.org
SUMMARY:Midweek Prayer Service
DESCRIPTION:Join us in the Memorial Garden for a midweek prayer service every Wednesday at 2:00pm starting on Wednesday September 18th\, through Wednesday October 9th.
URL:https://northcommunitychurch.org/event/midweek-prayer-service-2-5/
LOCATION:North Community Church\, 72 Old Main Street\, Marshfield\, Massachusetts\, 02051\, United States
CATEGORIES:Community,Faith Formation,NCC,Worship
ATTACH;FMTTYPE=image/jpeg:https://northcommunitychurch.org/wp-content/uploads/2024/09/Midweek-Prayer-Service-Fall-2024.jpg
END:VEVENT
BEGIN:VEVENT
DTSTART;TZID=America/New_York:20240929T110000
DTEND;TZID=America/New_York:20240929T120000
DTSTAMP:20260419T172747
CREATED:20240901T163329Z
LAST-MODIFIED:20240901T171622Z
UID:10000565-1727607600-1727611200@northcommunitychurch.org
SUMMARY:After Worship: An Introduction to Invitational Christianity
DESCRIPTION:
URL:https://northcommunitychurch.org/event/after-worship-an-introduction-to-invitational-christianity/
LOCATION:North Community Church\, 72 Old Main Street\, Marshfield\, Massachusetts\, 02051\, United States
CATEGORIES:Faith Formation,NCC,Worship
ATTACH;FMTTYPE=image/jpeg:https://northcommunitychurch.org/wp-content/uploads/2024/09/IC-Introduction.jpg
END:VEVENT
BEGIN:VEVENT
DTSTART;TZID=America/New_York:20240929T100000
DTEND;TZID=America/New_York:20240929T110000
DTSTAMP:20260419T172747
CREATED:20240901T154549Z
LAST-MODIFIED:20240901T155158Z
UID:10000527-1727604000-1727607600@northcommunitychurch.org
SUMMARY:Sunday Worship: "Intentionally Intergenerational"
DESCRIPTION:The third in a series of five Invitational Christianity sermons by Rev. Andrew.  This week’s theme: “Intentionally Intergenerational”.
URL:https://northcommunitychurch.org/event/sunday-worship-september-29-2024/
LOCATION:North Community Church\, 72 Old Main Street\, Marshfield\, Massachusetts\, 02051\, United States
CATEGORIES:Worship
ATTACH;FMTTYPE=image/jpeg:https://northcommunitychurch.org/wp-content/uploads/2024/08/6.jpg
END:VEVENT
BEGIN:VEVENT
DTSTART;TZID=America/New_York:20240925T140000
DTEND;TZID=America/New_York:20240925T150000
DTSTAMP:20260419T172747
CREATED:20240907T133553Z
LAST-MODIFIED:20240907T133553Z
UID:10000569-1727272800-1727276400@northcommunitychurch.org
SUMMARY:Midweek Prayer Service
DESCRIPTION:Join us in the Memorial Garden for a midweek prayer service every Wednesday at 2:00pm starting on Wednesday September 18th\, through Wednesday October 9th.
URL:https://northcommunitychurch.org/event/midweek-prayer-service-2-4/
LOCATION:North Community Church\, 72 Old Main Street\, Marshfield\, Massachusetts\, 02051\, United States
CATEGORIES:Community,Faith Formation,NCC,Worship
ATTACH;FMTTYPE=image/jpeg:https://northcommunitychurch.org/wp-content/uploads/2024/09/Midweek-Prayer-Service-Fall-2024.jpg
END:VEVENT
BEGIN:VEVENT
DTSTART;TZID=America/New_York:20240922T110000
DTEND;TZID=America/New_York:20240922T120000
DTSTAMP:20260419T172747
CREATED:20240901T163231Z
LAST-MODIFIED:20240901T163231Z
UID:10000564-1727002800-1727006400@northcommunitychurch.org
SUMMARY:After Worship: Invitational Christianity Storytelling Time
DESCRIPTION:
URL:https://northcommunitychurch.org/event/after-worship-invitational-christianity-storytelling-time/
LOCATION:North Community Church\, 72 Old Main Street\, Marshfield\, Massachusetts\, 02051\, United States
CATEGORIES:Faith Formation,NCC,Worship
END:VEVENT
BEGIN:VEVENT
DTSTART;TZID=America/New_York:20240922T100000
DTEND;TZID=America/New_York:20240922T110000
DTSTAMP:20260419T172747
CREATED:20240901T000539Z
LAST-MODIFIED:20240901T154825Z
UID:10000559-1726999200-1727002800@northcommunitychurch.org
SUMMARY:Sunday Worship: "Widely Witnessing"
DESCRIPTION:The second in a series of five Invitational Christianity sermons by Rev. Andrew.  This week’s theme: “Widely Witnessing”.
URL:https://northcommunitychurch.org/event/sunday-worship-september-22-2024/
LOCATION:North Community Church\, 72 Old Main Street\, Marshfield\, Massachusetts\, 02051\, United States
CATEGORIES:Worship
ATTACH;FMTTYPE=image/jpeg:https://northcommunitychurch.org/wp-content/uploads/2024/08/5.jpg
END:VEVENT
BEGIN:VEVENT
DTSTART;TZID=America/New_York:20240918T140000
DTEND;TZID=America/New_York:20240918T150000
DTSTAMP:20260419T172747
CREATED:20240907T133548Z
LAST-MODIFIED:20240907T133548Z
UID:10000568-1726668000-1726671600@northcommunitychurch.org
SUMMARY:Midweek Prayer Service
DESCRIPTION:Join us in the Memorial Garden for a midweek prayer service every Wednesday at 2:00pm starting on Wednesday September 18th\, through Wednesday October 9th.
URL:https://northcommunitychurch.org/event/midweek-prayer-service-2-3/
LOCATION:North Community Church\, 72 Old Main Street\, Marshfield\, Massachusetts\, 02051\, United States
CATEGORIES:Community,Faith Formation,NCC,Worship
ATTACH;FMTTYPE=image/jpeg:https://northcommunitychurch.org/wp-content/uploads/2024/09/Midweek-Prayer-Service-Fall-2024.jpg
END:VEVENT
BEGIN:VEVENT
DTSTART;TZID=America/New_York:20240918T080000
DTEND;TZID=America/New_York:20240918T170000
DTSTAMP:20260419T172747
CREATED:20240907T133544Z
LAST-MODIFIED:20240907T133544Z
UID:10000567-1726646400-1726678800@northcommunitychurch.org
SUMMARY:Midweek Prayer Service
DESCRIPTION:Join us in the Memorial Garden for a midweek prayer service every Wednesday at 2:00pm starting on Wednesday September 18th\, through Wednesday October 9th.
URL:https://northcommunitychurch.org/event/midweek-prayer-service-2-2/
LOCATION:North Community Church\, 72 Old Main Street\, Marshfield\, Massachusetts\, 02051\, United States
CATEGORIES:Community,Faith Formation,NCC,Worship
ATTACH;FMTTYPE=image/jpeg:https://northcommunitychurch.org/wp-content/uploads/2024/09/Midweek-Prayer-Service-Fall-2024.jpg
END:VEVENT
BEGIN:VEVENT
DTSTART;TZID=America/New_York:20240915T100000
DTEND;TZID=America/New_York:20240915T110000
DTSTAMP:20260419T172747
CREATED:20240901T000413Z
LAST-MODIFIED:20240901T154806Z
UID:10000558-1726394400-1726398000@northcommunitychurch.org
SUMMARY:Sunday Worship: "Graciously Grounded"
DESCRIPTION:The first in a series of five Invitational Christianity sermons by Rev. Andrew.  This week’s theme: “Graciously Grounded”.
URL:https://northcommunitychurch.org/event/sunday-worship-september-15-2024/
LOCATION:North Community Church\, 72 Old Main Street\, Marshfield\, Massachusetts\, 02051\, United States
CATEGORIES:Worship
ATTACH;FMTTYPE=image/jpeg:https://northcommunitychurch.org/wp-content/uploads/2024/08/4.jpg
END:VEVENT
BEGIN:VEVENT
DTSTART;TZID=America/New_York:20240908T100000
DTEND;TZID=America/New_York:20240908T110000
DTSTAMP:20260419T172747
CREATED:20240901T000218Z
LAST-MODIFIED:20240901T000218Z
UID:10000557-1725789600-1725793200@northcommunitychurch.org
SUMMARY:Sunday Worship at 10am
DESCRIPTION:“Bring a symbol of your summer!”  Today Sunday worship returns to 10am.
URL:https://northcommunitychurch.org/event/sunday-worship-september-8-2024/
LOCATION:North Community Church\, 72 Old Main Street\, Marshfield\, Massachusetts\, 02051\, United States
CATEGORIES:Worship
ATTACH;FMTTYPE=image/jpeg:https://northcommunitychurch.org/wp-content/uploads/2024/08/2.jpg
END:VEVENT
BEGIN:VEVENT
DTSTART;TZID=America/New_York:20240901T090000
DTEND;TZID=America/New_York:20240901T100000
DTSTAMP:20260419T172747
CREATED:20240831T234445Z
LAST-MODIFIED:20240901T000019Z
UID:10000556-1725181200-1725184800@northcommunitychurch.org
SUMMARY:Sunday Worship
DESCRIPTION:Communion Sunday. Last day of 9am Summer Worship. See you at 10am next week!
URL:https://northcommunitychurch.org/event/sunday-worship-september-1-2024/
LOCATION:North Community Church\, 72 Old Main Street\, Marshfield\, Massachusetts\, 02051\, United States
CATEGORIES:Worship
ATTACH;FMTTYPE=image/jpeg:https://northcommunitychurch.org/wp-content/uploads/2024/08/1.jpg
END:VEVENT
BEGIN:VEVENT
DTSTART;TZID=America/New_York:20240825T090000
DTEND;TZID=America/New_York:20240825T100000
DTSTAMP:20260419T172747
CREATED:20240210T164730Z
LAST-MODIFIED:20240617T171047Z
UID:10000522-1724576400-1724580000@northcommunitychurch.org
SUMMARY:Sunday Worship in the Garden
DESCRIPTION:
URL:https://northcommunitychurch.org/event/sunday-worship-15/
LOCATION:Garden\, 72 Old Main Street\, Marshfield Hills\, MA\, 02051\, United States
CATEGORIES:Worship
ATTACH;FMTTYPE=image/jpeg:https://northcommunitychurch.org/wp-content/uploads/2024/02/Summer-Worship1.jpg
END:VEVENT
BEGIN:VEVENT
DTSTART;TZID=America/New_York:20240818T090000
DTEND;TZID=America/New_York:20240818T100000
DTSTAMP:20260419T172747
CREATED:20240210T164723Z
LAST-MODIFIED:20240617T171034Z
UID:10000521-1723971600-1723975200@northcommunitychurch.org
SUMMARY:Sunday Worship in the Garden
DESCRIPTION:
URL:https://northcommunitychurch.org/event/sunday-worship-14/
LOCATION:Garden\, 72 Old Main Street\, Marshfield Hills\, MA\, 02051\, United States
CATEGORIES:Worship
ATTACH;FMTTYPE=image/jpeg:https://northcommunitychurch.org/wp-content/uploads/2024/02/Summer-Worship1.jpg
END:VEVENT
BEGIN:VEVENT
DTSTART;TZID=America/New_York:20240811T090000
DTEND;TZID=America/New_York:20240811T100000
DTSTAMP:20260419T172747
CREATED:20240210T164717Z
LAST-MODIFIED:20240617T171024Z
UID:10000520-1723366800-1723370400@northcommunitychurch.org
SUMMARY:Sunday Worship in the Garden
DESCRIPTION:
URL:https://northcommunitychurch.org/event/sunday-worship-13/
LOCATION:Garden\, 72 Old Main Street\, Marshfield Hills\, MA\, 02051\, United States
CATEGORIES:Worship
ATTACH;FMTTYPE=image/jpeg:https://northcommunitychurch.org/wp-content/uploads/2024/02/Summer-Worship1.jpg
END:VEVENT
BEGIN:VEVENT
DTSTART;TZID=America/New_York:20240804T090000
DTEND;TZID=America/New_York:20240804T100000
DTSTAMP:20260419T172747
CREATED:20240210T164711Z
LAST-MODIFIED:20240617T171011Z
UID:10000519-1722762000-1722765600@northcommunitychurch.org
SUMMARY:Sunday Worship in the Garden
DESCRIPTION:
URL:https://northcommunitychurch.org/event/sunday-worship-12/
LOCATION:Garden\, 72 Old Main Street\, Marshfield Hills\, MA\, 02051\, United States
CATEGORIES:Worship
ATTACH;FMTTYPE=image/jpeg:https://northcommunitychurch.org/wp-content/uploads/2024/02/Summer-Worship1.jpg
END:VEVENT
BEGIN:VEVENT
DTSTART;TZID=America/New_York:20240728T090000
DTEND;TZID=America/New_York:20240728T100000
DTSTAMP:20260419T172747
CREATED:20240210T164452Z
LAST-MODIFIED:20240617T171002Z
UID:10000518-1722157200-1722160800@northcommunitychurch.org
SUMMARY:Sunday Worship in the Garden
DESCRIPTION:
URL:https://northcommunitychurch.org/event/sunday-worship-11/
LOCATION:Garden\, 72 Old Main Street\, Marshfield Hills\, MA\, 02051\, United States
CATEGORIES:Worship
ATTACH;FMTTYPE=image/jpeg:https://northcommunitychurch.org/wp-content/uploads/2024/02/Summer-Worship1.jpg
END:VEVENT
BEGIN:VEVENT
DTSTART;TZID=America/New_York:20240721T090000
DTEND;TZID=America/New_York:20240721T100000
DTSTAMP:20260419T172747
CREATED:20240210T164447Z
LAST-MODIFIED:20240617T170954Z
UID:10000517-1721552400-1721556000@northcommunitychurch.org
SUMMARY:Sunday Worship in the Garden
DESCRIPTION:
URL:https://northcommunitychurch.org/event/sunday-worship-10/
LOCATION:Garden\, 72 Old Main Street\, Marshfield Hills\, MA\, 02051\, United States
CATEGORIES:Worship
ATTACH;FMTTYPE=image/jpeg:https://northcommunitychurch.org/wp-content/uploads/2024/02/Summer-Worship1.jpg
END:VEVENT
BEGIN:VEVENT
DTSTART;TZID=America/New_York:20240714T090000
DTEND;TZID=America/New_York:20240714T100000
DTSTAMP:20260419T172747
CREATED:20240210T164442Z
LAST-MODIFIED:20240617T170945Z
UID:10000516-1720947600-1720951200@northcommunitychurch.org
SUMMARY:Sunday Worship in the Garden
DESCRIPTION:
URL:https://northcommunitychurch.org/event/sunday-worship-9/
LOCATION:Garden\, 72 Old Main Street\, Marshfield Hills\, MA\, 02051\, United States
CATEGORIES:Worship
ATTACH;FMTTYPE=image/jpeg:https://northcommunitychurch.org/wp-content/uploads/2024/02/Summer-Worship1.jpg
END:VEVENT
BEGIN:VEVENT
DTSTART;TZID=America/New_York:20240707T090000
DTEND;TZID=America/New_York:20240707T100000
DTSTAMP:20260419T172747
CREATED:20240210T164316Z
LAST-MODIFIED:20240617T170937Z
UID:10000515-1720342800-1720346400@northcommunitychurch.org
SUMMARY:Sunday Worship in the Garden
DESCRIPTION:
URL:https://northcommunitychurch.org/event/sunday-worship-8-22/
LOCATION:Garden\, 72 Old Main Street\, Marshfield Hills\, MA\, 02051\, United States
CATEGORIES:Worship
ATTACH;FMTTYPE=image/jpeg:https://northcommunitychurch.org/wp-content/uploads/2024/02/Summer-Worship1.jpg
END:VEVENT
END:VCALENDAR