BEGIN:VCALENDAR
VERSION:2.0
PRODID:-//North Community Church - ECPv6.15.20//NONSGML v1.0//EN
CALSCALE:GREGORIAN
METHOD:PUBLISH
X-ORIGINAL-URL:https://northcommunitychurch.org
X-WR-CALDESC:Events for North Community Church
REFRESH-INTERVAL;VALUE=DURATION:PT1H
X-Robots-Tag:noindex
X-PUBLISHED-TTL:PT1H
BEGIN:VTIMEZONE
TZID:America/New_York
BEGIN:DAYLIGHT
TZOFFSETFROM:-0500
TZOFFSETTO:-0400
TZNAME:EDT
DTSTART:20220313T070000
END:DAYLIGHT
BEGIN:STANDARD
TZOFFSETFROM:-0400
TZOFFSETTO:-0500
TZNAME:EST
DTSTART:20221106T060000
END:STANDARD
BEGIN:DAYLIGHT
TZOFFSETFROM:-0500
TZOFFSETTO:-0400
TZNAME:EDT
DTSTART:20230312T070000
END:DAYLIGHT
BEGIN:STANDARD
TZOFFSETFROM:-0400
TZOFFSETTO:-0500
TZNAME:EST
DTSTART:20231105T060000
END:STANDARD
BEGIN:DAYLIGHT
TZOFFSETFROM:-0500
TZOFFSETTO:-0400
TZNAME:EDT
DTSTART:20240310T070000
END:DAYLIGHT
BEGIN:STANDARD
TZOFFSETFROM:-0400
TZOFFSETTO:-0500
TZNAME:EST
DTSTART:20241103T060000
END:STANDARD
END:VTIMEZONE
BEGIN:VEVENT
DTSTART;TZID=America/New_York:20231224T100000
DTEND;TZID=America/New_York:20231224T110000
DTSTAMP:20260420T203558
CREATED:20231019T201947Z
LAST-MODIFIED:20231019T202027Z
UID:10000392-1703412000-1703415600@northcommunitychurch.org
SUMMARY:Worship | Fourth Sunday of Advent "Joy"
DESCRIPTION:
URL:https://northcommunitychurch.org/event/sunday-worship-8-7/
LOCATION:North Community Church\, 72 Old Main Street\, Marshfield\, Massachusetts\, 02051\, United States
CATEGORIES:Holiday Services,Worship
ATTACH;FMTTYPE=image/jpeg:https://northcommunitychurch.org/wp-content/uploads/2023/10/4.jpg
END:VEVENT
BEGIN:VEVENT
DTSTART;TZID=America/New_York:20231217T100000
DTEND;TZID=America/New_York:20231217T110000
DTSTAMP:20260420T203558
CREATED:20231019T201808Z
LAST-MODIFIED:20231019T201809Z
UID:10000391-1702807200-1702810800@northcommunitychurch.org
SUMMARY:Worship | Third Sunday of Advent "Love"
DESCRIPTION:
URL:https://northcommunitychurch.org/event/sunday-worship-8-6/
LOCATION:North Community Church\, 72 Old Main Street\, Marshfield\, Massachusetts\, 02051\, United States
CATEGORIES:Worship
ATTACH;FMTTYPE=image/jpeg:https://northcommunitychurch.org/wp-content/uploads/2023/10/3.jpg
END:VEVENT
BEGIN:VEVENT
DTSTART;TZID=America/New_York:20231217T100000
DTEND;TZID=America/New_York:20231217T110000
DTSTAMP:20260420T203558
CREATED:20230814T141752Z
LAST-MODIFIED:20231106T140456Z
UID:10000307-1702807200-1702810800@northcommunitychurch.org
SUMMARY:Sunday Worship | Christmas Pageant
DESCRIPTION:
URL:https://northcommunitychurch.org/event/sunday-worship-christmas-pageant-2023/
CATEGORIES:Holiday Services,Worship
ATTACH;FMTTYPE=image/jpeg:https://northcommunitychurch.org/wp-content/uploads/2023/11/Pageant.jpg
END:VEVENT
BEGIN:VEVENT
DTSTART;TZID=America/New_York:20231210T100000
DTEND;TZID=America/New_York:20231210T110000
DTSTAMP:20260420T203558
CREATED:20231019T201613Z
LAST-MODIFIED:20231019T201614Z
UID:10000390-1702202400-1702206000@northcommunitychurch.org
SUMMARY:Worship | Second Sunday of Advent "Peace"
DESCRIPTION:
URL:https://northcommunitychurch.org/event/sunday-worship-8-5/
LOCATION:North Community Church\, 72 Old Main Street\, Marshfield\, Massachusetts\, 02051\, United States
CATEGORIES:Holiday Services,Worship
ATTACH;FMTTYPE=image/jpeg:https://northcommunitychurch.org/wp-content/uploads/2023/10/2.jpg
END:VEVENT
BEGIN:VEVENT
DTSTART;TZID=America/New_York:20231203T100000
DTEND;TZID=America/New_York:20231203T110000
DTSTAMP:20260420T203558
CREATED:20231019T200913Z
LAST-MODIFIED:20231019T201421Z
UID:10000389-1701597600-1701601200@northcommunitychurch.org
SUMMARY:Worship | First Sunday of Advent "Hope & Communion Sunday
DESCRIPTION:
URL:https://northcommunitychurch.org/event/sunday-worship-8-4/
LOCATION:North Community Church\, 72 Old Main Street\, Marshfield\, Massachusetts\, 02051\, United States
CATEGORIES:Holiday Services,Worship
ATTACH;FMTTYPE=image/jpeg:https://northcommunitychurch.org/wp-content/uploads/2023/10/1.jpg
END:VEVENT
BEGIN:VEVENT
DTSTART;TZID=America/New_York:20231126T100000
DTEND;TZID=America/New_York:20231126T110000
DTSTAMP:20260420T203558
CREATED:20231106T132542Z
LAST-MODIFIED:20231106T132543Z
UID:10000388-1700992800-1700996400@northcommunitychurch.org
SUMMARY:Sunday Worship | Transgender Remembrance
DESCRIPTION:
URL:https://northcommunitychurch.org/event/sunday-worship-8-8/
LOCATION:North Community Church\, 72 Old Main Street\, Marshfield\, Massachusetts\, 02051\, United States
CATEGORIES:Worship
ATTACH;FMTTYPE=image/jpeg:https://northcommunitychurch.org/wp-content/uploads/2023/09/Transgender.jpg
END:VEVENT
BEGIN:VEVENT
DTSTART;TZID=America/New_York:20231119T100000
DTEND;TZID=America/New_York:20231119T110000
DTSTAMP:20260420T203558
CREATED:20231106T132804Z
LAST-MODIFIED:20231106T154703Z
UID:10000387-1700388000-1700391600@northcommunitychurch.org
SUMMARY:Thanksgiving Worship
DESCRIPTION:Family worship\, no Sunday School this week.
URL:https://northcommunitychurch.org/event/sunday-worship-8-9/
LOCATION:North Community Church\, 72 Old Main Street\, Marshfield\, Massachusetts\, 02051\, United States
CATEGORIES:Worship
ATTACH;FMTTYPE=image/jpeg:https://northcommunitychurch.org/wp-content/uploads/2023/09/Thanksgiving-Worship.jpg
END:VEVENT
BEGIN:VEVENT
DTSTART;TZID=America/New_York:20231112T100000
DTEND;TZID=America/New_York:20231112T110000
DTSTAMP:20260420T203558
CREATED:20231106T140933Z
LAST-MODIFIED:20231106T141028Z
UID:10000386-1699783200-1699786800@northcommunitychurch.org
SUMMARY:Veterans Service | Sunday Worship
DESCRIPTION:
URL:https://northcommunitychurch.org/event/sunday-worship-8-11/
LOCATION:North Community Church\, 72 Old Main Street\, Marshfield\, Massachusetts\, 02051\, United States
CATEGORIES:Worship
ATTACH;FMTTYPE=image/jpeg:https://northcommunitychurch.org/wp-content/uploads/2023/09/Veterans.jpg
END:VEVENT
BEGIN:VEVENT
DTSTART;TZID=America/New_York:20231105T100000
DTEND;TZID=America/New_York:20231105T110000
DTSTAMP:20260420T203558
CREATED:20230912T170000Z
LAST-MODIFIED:20240210T163906Z
UID:10000385-1699178400-1699182000@northcommunitychurch.org
SUMMARY:Sunday Worship
DESCRIPTION:
URL:https://northcommunitychurch.org/event/sunday-worship-8/2023-11-05/
LOCATION:North Community Church\, 72 Old Main Street\, Marshfield\, Massachusetts\, 02051\, United States
CATEGORIES:Worship
ATTACH;FMTTYPE=image/jpeg:https://northcommunitychurch.org/wp-content/uploads/2022/06/North-Community-Church-Marshfield-1.jpg
END:VEVENT
BEGIN:VEVENT
DTSTART;TZID=America/New_York:20231029T100000
DTEND;TZID=America/New_York:20231029T110000
DTSTAMP:20260420T203558
CREATED:20230912T170000Z
LAST-MODIFIED:20240210T163906Z
UID:10000384-1698573600-1698577200@northcommunitychurch.org
SUMMARY:Sunday Worship
DESCRIPTION:
URL:https://northcommunitychurch.org/event/sunday-worship-8/2023-10-29/
LOCATION:North Community Church\, 72 Old Main Street\, Marshfield\, Massachusetts\, 02051\, United States
CATEGORIES:Worship
ATTACH;FMTTYPE=image/jpeg:https://northcommunitychurch.org/wp-content/uploads/2022/06/North-Community-Church-Marshfield-1.jpg
END:VEVENT
BEGIN:VEVENT
DTSTART;TZID=America/New_York:20231022T100000
DTEND;TZID=America/New_York:20231022T110000
DTSTAMP:20260420T203558
CREATED:20231019T193641Z
LAST-MODIFIED:20231019T193642Z
UID:10000383-1697968800-1697972400@northcommunitychurch.org
SUMMARY:Sunday Worship
DESCRIPTION:Laity Sunday \nWorship to be led by parishioner John LoConte.
URL:https://northcommunitychurch.org/event/sunday-worship-8-3/
LOCATION:North Community Church\, 72 Old Main Street\, Marshfield\, Massachusetts\, 02051\, United States
CATEGORIES:Worship
ATTACH;FMTTYPE=image/jpeg:https://northcommunitychurch.org/wp-content/uploads/2022/06/North-Community-Church-Marshfield-1.jpg
END:VEVENT
BEGIN:VEVENT
DTSTART;TZID=America/New_York:20231015T100000
DTEND;TZID=America/New_York:20231015T110000
DTSTAMP:20260420T203558
CREATED:20230912T170000Z
LAST-MODIFIED:20240210T163906Z
UID:10000382-1697364000-1697367600@northcommunitychurch.org
SUMMARY:Sunday Worship
DESCRIPTION:
URL:https://northcommunitychurch.org/event/sunday-worship-8/2023-10-15/
LOCATION:North Community Church\, 72 Old Main Street\, Marshfield\, Massachusetts\, 02051\, United States
CATEGORIES:Worship
ATTACH;FMTTYPE=image/jpeg:https://northcommunitychurch.org/wp-content/uploads/2022/06/North-Community-Church-Marshfield-1.jpg
END:VEVENT
BEGIN:VEVENT
DTSTART;TZID=America/New_York:20231008T100000
DTEND;TZID=America/New_York:20231008T110000
DTSTAMP:20260420T203558
CREATED:20230912T170000Z
LAST-MODIFIED:20240210T163906Z
UID:10000381-1696759200-1696762800@northcommunitychurch.org
SUMMARY:Sunday Worship
DESCRIPTION:
URL:https://northcommunitychurch.org/event/sunday-worship-8/2023-10-08/
LOCATION:North Community Church\, 72 Old Main Street\, Marshfield\, Massachusetts\, 02051\, United States
CATEGORIES:Worship
ATTACH;FMTTYPE=image/jpeg:https://northcommunitychurch.org/wp-content/uploads/2022/06/North-Community-Church-Marshfield-1.jpg
END:VEVENT
BEGIN:VEVENT
DTSTART;TZID=America/New_York:20231001T100000
DTEND;TZID=America/New_York:20231001T110000
DTSTAMP:20260420T203558
CREATED:20230912T170000Z
LAST-MODIFIED:20240210T163906Z
UID:10000380-1696154400-1696158000@northcommunitychurch.org
SUMMARY:Sunday Worship
DESCRIPTION:
URL:https://northcommunitychurch.org/event/sunday-worship-8/2023-10-01/
LOCATION:North Community Church\, 72 Old Main Street\, Marshfield\, Massachusetts\, 02051\, United States
CATEGORIES:Worship
ATTACH;FMTTYPE=image/jpeg:https://northcommunitychurch.org/wp-content/uploads/2022/06/North-Community-Church-Marshfield-1.jpg
END:VEVENT
BEGIN:VEVENT
DTSTART;TZID=America/New_York:20230924T100000
DTEND;TZID=America/New_York:20230924T110000
DTSTAMP:20260420T203558
CREATED:20230912T170000Z
LAST-MODIFIED:20240210T163906Z
UID:10000379-1695549600-1695553200@northcommunitychurch.org
SUMMARY:Sunday Worship
DESCRIPTION:
URL:https://northcommunitychurch.org/event/sunday-worship-8/2023-09-24/
LOCATION:North Community Church\, 72 Old Main Street\, Marshfield\, Massachusetts\, 02051\, United States
CATEGORIES:Worship
ATTACH;FMTTYPE=image/jpeg:https://northcommunitychurch.org/wp-content/uploads/2022/06/North-Community-Church-Marshfield-1.jpg
END:VEVENT
BEGIN:VEVENT
DTSTART;TZID=America/New_York:20230917T100000
DTEND;TZID=America/New_York:20230917T110000
DTSTAMP:20260420T203558
CREATED:20230912T173813Z
LAST-MODIFIED:20230912T173850Z
UID:10000378-1694944800-1694948400@northcommunitychurch.org
SUMMARY:Sunday Worship | Flapjacks and Backpacks
DESCRIPTION:Come one\, come all! From Preschool to Grad School to the School of Hard Knocks! \nStart the school year off with a blessing on your journey! Bring your backpack\, briefcase\, tote\, purse\, laptop case — your all-important carrier that holds your tools for learning and living —and we will ask God’s blessing on you and your journey this year! \nStay for a delicious Pancake Breakfast (in the Parish House) immediately following Worship.
URL:https://northcommunitychurch.org/event/sunday-worship-8-2/
LOCATION:North Community Church\, 72 Old Main Street\, Marshfield\, Massachusetts\, 02051\, United States
CATEGORIES:Worship
ATTACH;FMTTYPE=image/jpeg:https://northcommunitychurch.org/wp-content/uploads/2023/09/Flapjacks-Backpacks.jpg
END:VEVENT
BEGIN:VEVENT
DTSTART;TZID=America/New_York:20230910T100000
DTEND;TZID=America/New_York:20230910T110000
DTSTAMP:20260420T203558
CREATED:20230814T131618Z
LAST-MODIFIED:20230907T175208Z
UID:10000025-1694340000-1694343600@northcommunitychurch.org
SUMMARY:Sunday Worship | Candidate Sunday
DESCRIPTION:Join us for Sunday Worship as we celebrate Candidate Sunday! Please note we return to 10am Worship starting today.\nSixteenth Sunday after Pentecost
URL:https://northcommunitychurch.org/event/sunday-worship-candidate-sunday/
LOCATION:Sanctuary\, 72 Old Main Street\, Marshfield Hills\, MA\, 02051\, United States
CATEGORIES:Worship
ATTACH;FMTTYPE=image/jpeg:https://northcommunitychurch.org/wp-content/uploads/2023/08/Homecoming-Sunday.jpg
END:VEVENT
BEGIN:VEVENT
DTSTART;TZID=America/New_York:20230903T090000
DTEND;TZID=America/New_York:20230903T100000
DTSTAMP:20260420T203558
CREATED:20230814T131354Z
LAST-MODIFIED:20230814T131354Z
UID:10000023-1693731600-1693735200@northcommunitychurch.org
SUMMARY:Sunday Worship & Communion
DESCRIPTION:Join us for Sunday Worship & Communion in the Sanctuary with guest musician Connie Striano. Please note this summer service begins at 9:00am.\nFourteenth Sunday after Pentecost
URL:https://northcommunitychurch.org/event/sunday-worship-communion-3/
LOCATION:Sanctuary\, 72 Old Main Street\, Marshfield Hills\, MA\, 02051\, United States
CATEGORIES:Worship
ATTACH;FMTTYPE=image/jpeg:https://northcommunitychurch.org/wp-content/uploads/2023/08/Communion-Sunday.jpg
END:VEVENT
BEGIN:VEVENT
DTSTART;TZID=America/New_York:20230827T090000
DTEND;TZID=America/New_York:20230827T100000
DTSTAMP:20260420T203558
CREATED:20230814T131223Z
LAST-MODIFIED:20230814T131223Z
UID:10000022-1693126800-1693130400@northcommunitychurch.org
SUMMARY:Sunday Worship
DESCRIPTION:Join us for Sunday Worship in the Sanctuary with Guest Minister Rev. Stven Aucella. Please note this summer service begins at 9:00am.\nThirteenth Sunday after Pentecost
URL:https://northcommunitychurch.org/event/sunday-worship-7/
LOCATION:Garden\, 72 Old Main Street\, Marshfield Hills\, MA\, 02051\, United States
CATEGORIES:Worship
ATTACH;FMTTYPE=image/jpeg:https://northcommunitychurch.org/wp-content/uploads/2022/06/North-Community-Church-Marshfield-1.jpg
END:VEVENT
BEGIN:VEVENT
DTSTART;TZID=America/New_York:20230820T090000
DTEND;TZID=America/New_York:20230820T100000
DTSTAMP:20260420T203558
CREATED:20230814T131050Z
LAST-MODIFIED:20230814T131050Z
UID:10000021-1692522000-1692525600@northcommunitychurch.org
SUMMARY:Sunday Worship
DESCRIPTION:Join us for Sunday Worship in the Garden. Please note this service begins at 9:00am.\nTwelfth Sunday after Pentecost
URL:https://northcommunitychurch.org/event/sunday-worship-6/
LOCATION:Garden\, 72 Old Main Street\, Marshfield Hills\, MA\, 02051\, United States
CATEGORIES:Worship
ATTACH;FMTTYPE=image/jpeg:https://northcommunitychurch.org/wp-content/uploads/2023/08/Garden-Worship.jpg
END:VEVENT
BEGIN:VEVENT
DTSTART;TZID=America/New_York:20230813T093000
DTEND;TZID=America/New_York:20230813T103000
DTSTAMP:20260420T203558
CREATED:20230814T130816Z
LAST-MODIFIED:20230814T131102Z
UID:10000020-1691919000-1691922600@northcommunitychurch.org
SUMMARY:Sunday Worship
DESCRIPTION:Join us for Sunday Worship at Trinity Episcopal Church. Please note this service begins at 9:30am.\nEleventh Sunday after Pentecost
URL:https://northcommunitychurch.org/event/sunday-worship-5/
LOCATION:Trinity Episcopal Church\, 229 Highland Street\, Marshfield\, MA\, 02050\, United States
CATEGORIES:Worship
ATTACH;FMTTYPE=image/jpeg:https://northcommunitychurch.org/wp-content/uploads/2022/06/North-Community-Church-Marshfield-1.jpg
END:VEVENT
BEGIN:VEVENT
DTSTART;TZID=America/New_York:20230806T090000
DTEND;TZID=America/New_York:20230806T100000
DTSTAMP:20260420T203558
CREATED:20230814T130357Z
LAST-MODIFIED:20230814T130357Z
UID:10000019-1691312400-1691316000@northcommunitychurch.org
SUMMARY:Sunday Worship & Communion
DESCRIPTION:Join us for Sunday Worship & Communion in the Sanctuary with guest musician Larry Mynatt. Please note this summer service begins at 9am.\nTenth Sunday after Pentecost
URL:https://northcommunitychurch.org/event/sunday-worship-communion-2/
LOCATION:Garden\, 72 Old Main Street\, Marshfield Hills\, MA\, 02051\, United States
CATEGORIES:Worship
ATTACH;FMTTYPE=image/jpeg:https://northcommunitychurch.org/wp-content/uploads/2023/08/Communion-Sunday.jpg
END:VEVENT
BEGIN:VEVENT
DTSTART;TZID=America/New_York:20230730T090000
DTEND;TZID=America/New_York:20230730T100000
DTSTAMP:20260420T203558
CREATED:20230814T130243Z
LAST-MODIFIED:20230814T130243Z
UID:10000018-1690707600-1690711200@northcommunitychurch.org
SUMMARY:Sunday Worship
DESCRIPTION:Join us for Sunday Worship in the Garden with guest musician Larry Mynatt. Please note this summer service begins at 9am.\nNinth Sunday after Pentecost
URL:https://northcommunitychurch.org/event/sunday-worship-4/
LOCATION:Garden\, 72 Old Main Street\, Marshfield Hills\, MA\, 02051\, United States
CATEGORIES:Worship
ATTACH;FMTTYPE=image/jpeg:https://northcommunitychurch.org/wp-content/uploads/2023/08/Garden-Worship.jpg
END:VEVENT
BEGIN:VEVENT
DTSTART;TZID=America/New_York:20230723T090000
DTEND;TZID=America/New_York:20230723T100000
DTSTAMP:20260420T203558
CREATED:20230814T130146Z
LAST-MODIFIED:20230814T130734Z
UID:10000017-1690102800-1690106400@northcommunitychurch.org
SUMMARY:Sunday Worship
DESCRIPTION:Join us for Sunday Worship in the Sanctuary with guest musician Larry Mynatt. Joined by our friends from Trinity Episcopal.  Please note this summer service begins at 9am.\nEighth Sunday after Pentecost
URL:https://northcommunitychurch.org/event/sunday-worship-3/
LOCATION:Sanctuary\, 72 Old Main Street\, Marshfield Hills\, MA\, 02051\, United States
CATEGORIES:Worship
ATTACH;FMTTYPE=image/jpeg:https://northcommunitychurch.org/wp-content/uploads/2022/06/North-Community-Church-Marshfield-1.jpg
END:VEVENT
BEGIN:VEVENT
DTSTART;TZID=America/New_York:20230716T090000
DTEND;TZID=America/New_York:20230716T100000
DTSTAMP:20260420T203558
CREATED:20230814T124841Z
LAST-MODIFIED:20230814T124841Z
UID:10000016-1689498000-1689501600@northcommunitychurch.org
SUMMARY:Sunday Worship
DESCRIPTION:Join us for Sunday Worship in the Garden.  Please note this summer service begins at 9am.\nSeventh Sunday after Pentecost
URL:https://northcommunitychurch.org/event/sunday-worship-2/
LOCATION:Garden\, 72 Old Main Street\, Marshfield Hills\, MA\, 02051\, United States
CATEGORIES:Worship
ATTACH;FMTTYPE=image/jpeg:https://northcommunitychurch.org/wp-content/uploads/2023/08/Garden-Worship.jpg
END:VEVENT
BEGIN:VEVENT
DTSTART;TZID=America/New_York:20230709T090000
DTEND;TZID=America/New_York:20230709T100000
DTSTAMP:20260420T203558
CREATED:20230814T124741Z
LAST-MODIFIED:20230814T124741Z
UID:10000015-1688893200-1688896800@northcommunitychurch.org
SUMMARY:Sunday Worship
DESCRIPTION:Join us for Sunday Worship in the Sanctuary.  Please note this summer service begins at 9am.\nSixth Sunday after Pentecost
URL:https://northcommunitychurch.org/event/sunday-worship/
LOCATION:Sanctuary\, 72 Old Main Street\, Marshfield Hills\, MA\, 02051\, United States
CATEGORIES:Worship
ATTACH;FMTTYPE=image/jpeg:https://northcommunitychurch.org/wp-content/uploads/2022/06/North-Community-Church-Marshfield-1.jpg
END:VEVENT
BEGIN:VEVENT
DTSTART;TZID=America/New_York:20230702T090000
DTEND;TZID=America/New_York:20230702T100000
DTSTAMP:20260420T203558
CREATED:20230814T124535Z
LAST-MODIFIED:20230814T124535Z
UID:10000014-1688288400-1688292000@northcommunitychurch.org
SUMMARY:Sunday Worship & Communion
DESCRIPTION:Join us for Worship & Communion in the Sanctuary with Guest Minister Rev. Steven Aucella.  Please note this summer service begins at 9am.\nFifth Sunday after Pentecost
URL:https://northcommunitychurch.org/event/sunday-worship-communion/
LOCATION:Sanctuary\, 72 Old Main Street\, Marshfield Hills\, MA\, 02051\, United States
CATEGORIES:Worship
ATTACH;FMTTYPE=image/jpeg:https://northcommunitychurch.org/wp-content/uploads/2023/08/Communion-Sunday.jpg
END:VEVENT
BEGIN:VEVENT
DTSTART;TZID=America/New_York:20230625T100000
DTEND;TZID=America/New_York:20230625T110000
DTSTAMP:20260420T203558
CREATED:20230814T123943Z
LAST-MODIFIED:20230814T124202Z
UID:10000013-1687687200-1687690800@northcommunitychurch.org
SUMMARY:Sunday Worship | Annual Beach Service
DESCRIPTION:Join us for our Annual Beach Service at Humarock Beach starting at 10am.\nFourth Sunday after Pentecost
URL:https://northcommunitychurch.org/event/sunday-worship-annual-beach-service/
LOCATION:Humarock Beach\, Humarock\, MA\, United States
CATEGORIES:Worship
ATTACH;FMTTYPE=image/jpeg:https://northcommunitychurch.org/wp-content/uploads/2022/06/40485-1_1_orig.jpeg
END:VEVENT
BEGIN:VEVENT
DTSTART;TZID=America/New_York:20230618T100000
DTEND;TZID=America/New_York:20230618T110000
DTSTAMP:20260420T203558
CREATED:20230814T135405Z
LAST-MODIFIED:20230814T140053Z
UID:10000303-1687082400-1687086000@northcommunitychurch.org
SUMMARY:Sunday Worship | Pride Sunday
DESCRIPTION:
URL:https://northcommunitychurch.org/event/sunday-worship-pride-sunday/
LOCATION:Sanctuary\, 72 Old Main Street\, Marshfield Hills\, MA\, 02051\, United States
CATEGORIES:Worship
ATTACH;FMTTYPE=image/jpeg:https://northcommunitychurch.org/wp-content/uploads/2023/08/Pride-Sunday.jpg
END:VEVENT
BEGIN:VEVENT
DTSTART;TZID=America/New_York:20230528T100000
DTEND;TZID=America/New_York:20230528T110000
DTSTAMP:20260420T203558
CREATED:20230503T193511Z
LAST-MODIFIED:20230503T193814Z
UID:10000012-1685268000-1685271600@northcommunitychurch.org
SUMMARY:New England Gospel Ensemble
DESCRIPTION:Make a Joyful Noise!\nThe New England Gospel Ensemble is featured during our 10am Sunday Worship on May 28\, 2023.
URL:https://northcommunitychurch.org/event/new-england-gospel-ensemble/
LOCATION:North Community Church\, 72 Old Main Street\, Marshfield\, Massachusetts\, 02051\, United States
CATEGORIES:Worship
ATTACH;FMTTYPE=image/jpeg:https://northcommunitychurch.org/wp-content/uploads/2023/05/Gospel.jpg
END:VEVENT
END:VCALENDAR