BEGIN:VCALENDAR
VERSION:2.0
PRODID:-//North Community Church - ECPv6.15.20//NONSGML v1.0//EN
CALSCALE:GREGORIAN
METHOD:PUBLISH
X-WR-CALNAME:North Community Church
X-ORIGINAL-URL:https://northcommunitychurch.org
X-WR-CALDESC:Events for North Community Church
REFRESH-INTERVAL;VALUE=DURATION:PT1H
X-Robots-Tag:noindex
X-PUBLISHED-TTL:PT1H
BEGIN:VTIMEZONE
TZID:America/New_York
BEGIN:DAYLIGHT
TZOFFSETFROM:-0500
TZOFFSETTO:-0400
TZNAME:EDT
DTSTART:20230312T070000
END:DAYLIGHT
BEGIN:STANDARD
TZOFFSETFROM:-0400
TZOFFSETTO:-0500
TZNAME:EST
DTSTART:20231105T060000
END:STANDARD
BEGIN:DAYLIGHT
TZOFFSETFROM:-0500
TZOFFSETTO:-0400
TZNAME:EDT
DTSTART:20240310T070000
END:DAYLIGHT
BEGIN:STANDARD
TZOFFSETFROM:-0400
TZOFFSETTO:-0500
TZNAME:EST
DTSTART:20241103T060000
END:STANDARD
BEGIN:DAYLIGHT
TZOFFSETFROM:-0500
TZOFFSETTO:-0400
TZNAME:EDT
DTSTART:20250309T070000
END:DAYLIGHT
BEGIN:STANDARD
TZOFFSETFROM:-0400
TZOFFSETTO:-0500
TZNAME:EST
DTSTART:20251102T060000
END:STANDARD
END:VTIMEZONE
BEGIN:VEVENT
DTSTART;TZID=America/New_York:20241106T170000
DTEND;TZID=America/New_York:20241106T200000
DTSTAMP:20260420T004019
CREATED:20240524T002652Z
LAST-MODIFIED:20240524T002723Z
UID:10000552-1730912400-1730923200@northcommunitychurch.org
SUMMARY:Community Meal at First Congregational Church
DESCRIPTION:We hope you’ll join friends from North Community Church at the November 6 Community Meal at First Congregational Church\, Marshfield.    There is no charge for this potluck style dinner.  The host church will reach out with specific menu items needed.  If you’d like to contribute to the meal\, please reach out to Rev. Andrew. \nThe Ecumenical Working Group of Marshfield\, together with local churches including North Community Church\, Trinity Episcopal Church\, Sanctuary Church\, and First Congregational Church\, have launched a new Community Meal program to promote engagement and fellowship across denominations. The four churches involved will each host one meal a year.
URL:https://northcommunitychurch.org/event/community-meal-at-first-congregational-church/
LOCATION:First Congregational Church\, 1981 Ocean Street\, Marshfield\, MA\, 02050
CATEGORIES:Community,NCC
ATTACH;FMTTYPE=image/jpeg:https://northcommunitychurch.org/wp-content/uploads/2024/05/First-Congregational-Community-Meal.jpg
END:VEVENT
BEGIN:VEVENT
DTSTART;TZID=America/New_York:20241127T140000
DTEND;TZID=America/New_York:20241127T150000
DTSTAMP:20260420T004019
CREATED:20240907T133342Z
LAST-MODIFIED:20240907T133342Z
UID:10000629-1732716000-1732719600@northcommunitychurch.org
SUMMARY:Midweek Prayer Service
DESCRIPTION:Join us in the Memorial Garden for a midweek prayer service every Wednesday at 2:00pm starting on Wednesday September 18th\, through Wednesday October 9th.
URL:https://northcommunitychurch.org/event/midweek-prayer-service/
LOCATION:North Community Church\, 72 Old Main Street\, Marshfield\, Massachusetts\, 02051\, United States
CATEGORIES:Community,Faith Formation,NCC,Worship
ATTACH;FMTTYPE=image/jpeg:https://northcommunitychurch.org/wp-content/uploads/2024/09/Midweek-Prayer-Service-Fall-2024.jpg
END:VEVENT
END:VCALENDAR