BEGIN:VCALENDAR
VERSION:2.0
PRODID:-//North Community Church - ECPv6.15.20//NONSGML v1.0//EN
CALSCALE:GREGORIAN
METHOD:PUBLISH
X-WR-CALNAME:North Community Church
X-ORIGINAL-URL:https://northcommunitychurch.org
X-WR-CALDESC:Events for North Community Church
REFRESH-INTERVAL;VALUE=DURATION:PT1H
X-Robots-Tag:noindex
X-PUBLISHED-TTL:PT1H
BEGIN:VTIMEZONE
TZID:America/New_York
BEGIN:DAYLIGHT
TZOFFSETFROM:-0500
TZOFFSETTO:-0400
TZNAME:EDT
DTSTART:20240310T070000
END:DAYLIGHT
BEGIN:STANDARD
TZOFFSETFROM:-0400
TZOFFSETTO:-0500
TZNAME:EST
DTSTART:20241103T060000
END:STANDARD
BEGIN:DAYLIGHT
TZOFFSETFROM:-0500
TZOFFSETTO:-0400
TZNAME:EDT
DTSTART:20250309T070000
END:DAYLIGHT
BEGIN:STANDARD
TZOFFSETFROM:-0400
TZOFFSETTO:-0500
TZNAME:EST
DTSTART:20251102T060000
END:STANDARD
BEGIN:DAYLIGHT
TZOFFSETFROM:-0500
TZOFFSETTO:-0400
TZNAME:EDT
DTSTART:20260308T070000
END:DAYLIGHT
BEGIN:STANDARD
TZOFFSETFROM:-0400
TZOFFSETTO:-0500
TZNAME:EST
DTSTART:20261101T060000
END:STANDARD
END:VTIMEZONE
BEGIN:VEVENT
DTSTART;TZID=America/New_York:20251008T170000
DTEND;TZID=America/New_York:20251008T200000
DTSTAMP:20260424T075500
CREATED:20250904T134929Z
LAST-MODIFIED:20250904T175408Z
UID:10000836-1759942800-1759953600@northcommunitychurch.org
SUMMARY:Free Community Meal
DESCRIPTION:We hope you’ll join us for this free community meal on October 8th from 5pm to 8pm at Friendship Hall.  There is no charge for this potluck style dinner.  The host church will reach out with specific menu items needed.  If you’d like to contribute to the meal\, please reach out to Rev. Andrew. \nThere will be gluten-free and vegetarian options available.
URL:https://northcommunitychurch.org/event/community-meal-october-2025/
LOCATION:Friendship Hall on Old Main\, 83 Old Main Street\, Marshfield Hills\, MA\, 02051\, United States
CATEGORIES:Community,NCC
ATTACH;FMTTYPE=image/jpeg:https://northcommunitychurch.org/wp-content/uploads/2025/09/Community-Meal-Oct-8.jpg
END:VEVENT
BEGIN:VEVENT
DTSTART;TZID=America/New_York:20251008T190000
DTEND;TZID=America/New_York:20251008T210000
DTSTAMP:20260424T075500
CREATED:20250913T221549Z
LAST-MODIFIED:20250913T222439Z
UID:10000842-1759950000-1759957200@northcommunitychurch.org
SUMMARY:Choir Practice – North Community Church
DESCRIPTION:Join us every Wednesday at 7:00 PM\n Sanctuary\, North Community Church\, 72 Old Main Street\, Marshfield Hills \nLift your voice and join us! Choir rehearsal takes place each Wednesday evening in the sanctuary. All are welcome—no prior choral experience needed\, just a love of music\, singing\, and community. The choir also gathers for a short warm-up on Sunday mornings before worship. \nFor questions\, contact:\nDiana Barnes Fabrizio\, Music Director\nDiana@northcommunitychurch.org
URL:https://northcommunitychurch.org/event/choir-practice-north-community-church/2025-10-08/
LOCATION:North Community Church\, 72 Old Main Street\, Marshfield\, Massachusetts\, 02051\, United States
CATEGORIES:Music
ATTACH;FMTTYPE=image/jpeg:https://northcommunitychurch.org/wp-content/uploads/2025/09/NCC-Choir-Practic.jpg
END:VEVENT
END:VCALENDAR