BEGIN:VCALENDAR
VERSION:2.0
PRODID:-//North Community Church - ECPv6.15.20//NONSGML v1.0//EN
CALSCALE:GREGORIAN
METHOD:PUBLISH
X-WR-CALNAME:North Community Church
X-ORIGINAL-URL:https://northcommunitychurch.org
X-WR-CALDESC:Events for North Community Church
REFRESH-INTERVAL;VALUE=DURATION:PT1H
X-Robots-Tag:noindex
X-PUBLISHED-TTL:PT1H
BEGIN:VTIMEZONE
TZID:America/New_York
BEGIN:DAYLIGHT
TZOFFSETFROM:-0500
TZOFFSETTO:-0400
TZNAME:EDT
DTSTART:20230312T070000
END:DAYLIGHT
BEGIN:STANDARD
TZOFFSETFROM:-0400
TZOFFSETTO:-0500
TZNAME:EST
DTSTART:20231105T060000
END:STANDARD
BEGIN:DAYLIGHT
TZOFFSETFROM:-0500
TZOFFSETTO:-0400
TZNAME:EDT
DTSTART:20240310T070000
END:DAYLIGHT
BEGIN:STANDARD
TZOFFSETFROM:-0400
TZOFFSETTO:-0500
TZNAME:EST
DTSTART:20241103T060000
END:STANDARD
BEGIN:DAYLIGHT
TZOFFSETFROM:-0500
TZOFFSETTO:-0400
TZNAME:EDT
DTSTART:20250309T070000
END:DAYLIGHT
BEGIN:STANDARD
TZOFFSETFROM:-0400
TZOFFSETTO:-0500
TZNAME:EST
DTSTART:20251102T060000
END:STANDARD
END:VTIMEZONE
BEGIN:VEVENT
DTSTART;TZID=America/New_York:20241103T100000
DTEND;TZID=America/New_York:20241103T110000
DTSTAMP:20260424T032612
CREATED:20240210T181238Z
LAST-MODIFIED:20240901T173335Z
UID:10000532-1730628000-1730631600@northcommunitychurch.org
SUMMARY:Sunday Worship: Communion and All Saints Sunday
DESCRIPTION:
URL:https://northcommunitychurch.org/event/sunday-worship-17/
LOCATION:North Community Church\, 72 Old Main Street\, Marshfield\, Massachusetts\, 02051\, United States
CATEGORIES:Worship
ATTACH;FMTTYPE=image/jpeg:https://northcommunitychurch.org/wp-content/uploads/2024/02/communion-sunday-and-all-saints.jpg
END:VEVENT
BEGIN:VEVENT
DTSTART;TZID=America/New_York:20241103T110000
DTEND;TZID=America/New_York:20241103T120000
DTSTAMP:20260424T032612
CREATED:20241022T221412Z
LAST-MODIFIED:20241022T221513Z
UID:10000631-1730631600-1730635200@northcommunitychurch.org
SUMMARY:Friendship Hall Town Hall
DESCRIPTION:Our capital campaign to restore the historic Friendship Hall has officially launched\, and we want to share the exciting details with you! \nJoin the committee after service on Sunday\, November 3rd\, for coffee\, pastries\, and fellowship. You’ll hear about the restoration plans for this cherished building and learn how you can play a part in preserving an important piece of our community’s history. We’re off to a strong start\, and with your help\, we can achieve our goals!
URL:https://northcommunitychurch.org/event/friendship-hall-town-hall/
LOCATION:Friendship Hall on Old Main\, 83 Old Main Street\, Marshfield Hills\, MA\, 02051\, United States
CATEGORIES:Fellowship,NCC
ATTACH;FMTTYPE=image/jpeg:https://northcommunitychurch.org/wp-content/uploads/2024/06/Friendship-Hall-2024-1-1.jpg
END:VEVENT
END:VCALENDAR