BEGIN:VCALENDAR
VERSION:2.0
PRODID:-//North Community Church - ECPv6.15.20//NONSGML v1.0//EN
CALSCALE:GREGORIAN
METHOD:PUBLISH
X-ORIGINAL-URL:https://northcommunitychurch.org
X-WR-CALDESC:Events for North Community Church
REFRESH-INTERVAL;VALUE=DURATION:PT1H
X-Robots-Tag:noindex
X-PUBLISHED-TTL:PT1H
BEGIN:VTIMEZONE
TZID:America/New_York
BEGIN:DAYLIGHT
TZOFFSETFROM:-0500
TZOFFSETTO:-0400
TZNAME:EDT
DTSTART:20230312T070000
END:DAYLIGHT
BEGIN:STANDARD
TZOFFSETFROM:-0400
TZOFFSETTO:-0500
TZNAME:EST
DTSTART:20231105T060000
END:STANDARD
BEGIN:DAYLIGHT
TZOFFSETFROM:-0500
TZOFFSETTO:-0400
TZNAME:EDT
DTSTART:20240310T070000
END:DAYLIGHT
BEGIN:STANDARD
TZOFFSETFROM:-0400
TZOFFSETTO:-0500
TZNAME:EST
DTSTART:20241103T060000
END:STANDARD
BEGIN:DAYLIGHT
TZOFFSETFROM:-0500
TZOFFSETTO:-0400
TZNAME:EDT
DTSTART:20250309T070000
END:DAYLIGHT
BEGIN:STANDARD
TZOFFSETFROM:-0400
TZOFFSETTO:-0500
TZNAME:EST
DTSTART:20251102T060000
END:STANDARD
END:VTIMEZONE
BEGIN:VEVENT
DTSTART;VALUE=DATE:20240329
DTEND;VALUE=DATE:20240330
DTSTAMP:20260421T062302
CREATED:20240325T190901Z
LAST-MODIFIED:20240325T190901Z
UID:10000546-1711670400-1711756799@northcommunitychurch.org
SUMMARY:Good Friday
DESCRIPTION:
URL:https://northcommunitychurch.org/event/good-friday-2/
LOCATION:North Community Church\, 72 Old Main Street\, Marshfield\, Massachusetts\, 02051\, United States
CATEGORIES:Holiday Services
ATTACH;FMTTYPE=image/jpeg:https://northcommunitychurch.org/wp-content/uploads/2024/03/Good-Friday.jpg
END:VEVENT
BEGIN:VEVENT
DTSTART;TZID=America/New_York:20240329T190000
DTEND;TZID=America/New_York:20240329T200000
DTSTAMP:20260421T062302
CREATED:20230814T134156Z
LAST-MODIFIED:20230814T135118Z
UID:10000235-1711738800-1711742400@northcommunitychurch.org
SUMMARY:AA Meeting
DESCRIPTION:
URL:https://northcommunitychurch.org/event/aa-meeting-fridays/2024-03-29/
LOCATION:Friendship Hall on Old Main\, 83 Old Main Street\, Marshfield Hills\, MA\, 02051\, United States
CATEGORIES:AA Meeting,Community
ATTACH;FMTTYPE=image/png:https://northcommunitychurch.org/wp-content/uploads/2023/08/AAMeeting.png
END:VEVENT
END:VCALENDAR