BEGIN:VCALENDAR
VERSION:2.0
PRODID:-//North Community Church - ECPv6.15.20//NONSGML v1.0//EN
CALSCALE:GREGORIAN
METHOD:PUBLISH
X-ORIGINAL-URL:https://northcommunitychurch.org
X-WR-CALDESC:Events for North Community Church
REFRESH-INTERVAL;VALUE=DURATION:PT1H
X-Robots-Tag:noindex
X-PUBLISHED-TTL:PT1H
BEGIN:VTIMEZONE
TZID:America/New_York
BEGIN:DAYLIGHT
TZOFFSETFROM:-0500
TZOFFSETTO:-0400
TZNAME:EDT
DTSTART:20220313T070000
END:DAYLIGHT
BEGIN:STANDARD
TZOFFSETFROM:-0400
TZOFFSETTO:-0500
TZNAME:EST
DTSTART:20221106T060000
END:STANDARD
BEGIN:DAYLIGHT
TZOFFSETFROM:-0500
TZOFFSETTO:-0400
TZNAME:EDT
DTSTART:20230312T070000
END:DAYLIGHT
BEGIN:STANDARD
TZOFFSETFROM:-0400
TZOFFSETTO:-0500
TZNAME:EST
DTSTART:20231105T060000
END:STANDARD
BEGIN:DAYLIGHT
TZOFFSETFROM:-0500
TZOFFSETTO:-0400
TZNAME:EDT
DTSTART:20240310T070000
END:DAYLIGHT
BEGIN:STANDARD
TZOFFSETFROM:-0400
TZOFFSETTO:-0500
TZNAME:EST
DTSTART:20241103T060000
END:STANDARD
END:VTIMEZONE
BEGIN:VEVENT
DTSTART;TZID=America/New_York:20231213T120000
DTEND;TZID=America/New_York:20231213T140000
DTSTAMP:20260424T231417
CREATED:20231019T202520Z
LAST-MODIFIED:20231105T232805Z
UID:10000423-1702468800-1702476000@northcommunitychurch.org
SUMMARY:Community League Holiday Tea & Concert
DESCRIPTION:Community League Annual Holiday Tea and Concert featuring the Marshfield High School Marshalairs Chorus and Chamber Orchestra takes place on Deceber 13th at 12noon. \nWhat a wonderful way to celebrate the holiday season! These talented young musicians bring immeasurable joy to all who attend. \nA delicious luncheon follows the performance.
URL:https://northcommunitychurch.org/event/community-league-holiday-tea-concert/
CATEGORIES:Community,Holiday Services,Music
ATTACH;FMTTYPE=image/jpeg:https://northcommunitychurch.org/wp-content/uploads/2023/10/Holiday-concert.jpg
END:VEVENT
BEGIN:VEVENT
DTSTART;TZID=America/New_York:20231213T190000
DTEND;TZID=America/New_York:20231213T203000
DTSTAMP:20260424T231417
CREATED:20230912T133051Z
LAST-MODIFIED:20230912T133051Z
UID:10000324-1702494000-1702499400@northcommunitychurch.org
SUMMARY:Choir Rehearsal
DESCRIPTION:Wednesday evenings at 7pm (Starting on September 13\, 2023) in the sanctuary. \nAll are invited! Please consider joining us this season or just come to check it out if you are at all interested in singing and want to give back in this wonderful way to your church community.
URL:https://northcommunitychurch.org/event/choir-rehearsal/2023-12-13/
LOCATION:Sanctuary\, 72 Old Main Street\, Marshfield Hills\, MA\, 02051\, United States
CATEGORIES:Music
ATTACH;FMTTYPE=image/jpeg:https://northcommunitychurch.org/wp-content/uploads/2023/09/unsplash-image-AQIB4qsI8wI.jpg
ORGANIZER;CN="Diana Barnes":MAILTO:diana@northcommunitychurch.org
END:VEVENT
END:VCALENDAR