BEGIN:VCALENDAR
VERSION:2.0
PRODID:-//North Community Church - ECPv6.15.20//NONSGML v1.0//EN
CALSCALE:GREGORIAN
METHOD:PUBLISH
X-ORIGINAL-URL:https://northcommunitychurch.org
X-WR-CALDESC:Events for North Community Church
REFRESH-INTERVAL;VALUE=DURATION:PT1H
X-Robots-Tag:noindex
X-PUBLISHED-TTL:PT1H
BEGIN:VTIMEZONE
TZID:America/New_York
BEGIN:DAYLIGHT
TZOFFSETFROM:-0500
TZOFFSETTO:-0400
TZNAME:EDT
DTSTART:20210314T070000
END:DAYLIGHT
BEGIN:STANDARD
TZOFFSETFROM:-0400
TZOFFSETTO:-0500
TZNAME:EST
DTSTART:20211107T060000
END:STANDARD
BEGIN:DAYLIGHT
TZOFFSETFROM:-0500
TZOFFSETTO:-0400
TZNAME:EDT
DTSTART:20220313T070000
END:DAYLIGHT
BEGIN:STANDARD
TZOFFSETFROM:-0400
TZOFFSETTO:-0500
TZNAME:EST
DTSTART:20221106T060000
END:STANDARD
BEGIN:DAYLIGHT
TZOFFSETFROM:-0500
TZOFFSETTO:-0400
TZNAME:EDT
DTSTART:20230312T070000
END:DAYLIGHT
BEGIN:STANDARD
TZOFFSETFROM:-0400
TZOFFSETTO:-0500
TZNAME:EST
DTSTART:20231105T060000
END:STANDARD
END:VTIMEZONE
BEGIN:VEVENT
DTSTART;TZID=America/New_York:20221225T100000
DTEND;TZID=America/New_York:20221225T110000
DTSTAMP:20260424T052036
CREATED:20221213T003504Z
LAST-MODIFIED:20221223T221517Z
UID:10000004-1671962400-1671966000@northcommunitychurch.org
SUMMARY:Christmas Day "Comfy Clothes" Service
DESCRIPTION:Join us for an in-person “comfy clothes” Christmas Day worship service.\n\nYou may also join via Zoom at the link below.\n\n\nTopic: NCC Worship Zoom Link\nDate: December 25\, 2022   Time: 10:00 AM Eastern Time (US and Canada) \nJoin Zoom Meeting\nhttps://zoom.us/j/5108496434?pwd=azE5MDBHbzRuS1FsWFF1YllMZmVrQT09 \nMeeting ID: 510 849 6434\nPasscode: 373216\nOne tap mobile\n+13126266799\,\,5108496434#\,\,\,\,*373216# US (Chicago)\n+16465588656\,\,5108496434#\,\,\,\,*373216# US (New York) \nDial by your location\n+1 312 626 6799 US (Chicago)\n+1 646 558 8656 US (New York)\n+1 301 715 8592 US (Washington DC)\n+1 346 248 7799 US (Houston)\n+1 669 900 9128 US (San Jose)\n+1 253 215 8782 US (Tacoma)\nMeeting ID: 510 849 6434\nPasscode: 373216\nFind your local number: https://zoom.us/u/ab6ZbfSs2
URL:https://northcommunitychurch.org/event/christmas-day-comfy-clothes-service/
CATEGORIES:Holiday Services
ATTACH;FMTTYPE=image/png:https://northcommunitychurch.org/wp-content/uploads/2022/12/2.png
END:VEVENT
END:VCALENDAR