BEGIN:VCALENDAR
VERSION:2.0
PRODID:-//North Community Church - ECPv6.15.20//NONSGML v1.0//EN
CALSCALE:GREGORIAN
METHOD:PUBLISH
X-WR-CALNAME:North Community Church
X-ORIGINAL-URL:https://northcommunitychurch.org
X-WR-CALDESC:Events for North Community Church
REFRESH-INTERVAL;VALUE=DURATION:PT1H
X-Robots-Tag:noindex
X-PUBLISHED-TTL:PT1H
BEGIN:VTIMEZONE
TZID:America/New_York
BEGIN:DAYLIGHT
TZOFFSETFROM:-0500
TZOFFSETTO:-0400
TZNAME:EDT
DTSTART:20240310T070000
END:DAYLIGHT
BEGIN:STANDARD
TZOFFSETFROM:-0400
TZOFFSETTO:-0500
TZNAME:EST
DTSTART:20241103T060000
END:STANDARD
BEGIN:DAYLIGHT
TZOFFSETFROM:-0500
TZOFFSETTO:-0400
TZNAME:EDT
DTSTART:20250309T070000
END:DAYLIGHT
BEGIN:STANDARD
TZOFFSETFROM:-0400
TZOFFSETTO:-0500
TZNAME:EST
DTSTART:20251102T060000
END:STANDARD
BEGIN:DAYLIGHT
TZOFFSETFROM:-0500
TZOFFSETTO:-0400
TZNAME:EDT
DTSTART:20260308T070000
END:DAYLIGHT
BEGIN:STANDARD
TZOFFSETFROM:-0400
TZOFFSETTO:-0500
TZNAME:EST
DTSTART:20261101T060000
END:STANDARD
END:VTIMEZONE
BEGIN:VEVENT
DTSTART;TZID=America/New_York:20250523T083000
DTEND;TZID=America/New_York:20250523T153000
DTSTAMP:20260419T122159
CREATED:20250203T165514Z
LAST-MODIFIED:20250203T165552Z
UID:5012-1747989000-1748014200@northcommunitychurch.org
SUMMARY:Youth Group: Arts Fair
DESCRIPTION:First of 2-Day Arts Fair youth table \n  \nAbout NCC Youth Group\nThe Youth Group for 12-18 year olds meets on a regular basis\, typically two to three times a month from 9:45am to 11:45am in Friendship Hall. We’re on a mission to help young people grow personally and spiritually by focusing on three core values: empathy\, kindness\, and service. We offer a wide array of opportunities and fun activities to develop life skills\, build confidence\, and make wise decisions while serving those in need. \nFor more information or to register for Youth Group email us at youth@northcommunitychurch.org
URL:https://northcommunitychurch.org/event/youth-group-meeting-arts-fair-day-1/
LOCATION:Friendship Hall on Old Main\, 83 Old Main Street\, Marshfield Hills\, MA\, 02051\, United States
CATEGORIES:Community,NCC,Youth Group
ATTACH;FMTTYPE=image/jpeg:https://northcommunitychurch.org/wp-content/uploads/2025/02/Youth-Group-meets-this-morning-at-NCC.jpg
ORGANIZER;CN="Steve Shipman":MAILTO:youth@northcommunitychurch.org
END:VEVENT
END:VCALENDAR